BEGIN:VCALENDAR
VERSION:2.0
PRODID:-//ChamberMaster//Event Calendar 2.0//EN
METHOD:PUBLISH
X-PUBLISHED-TTL:P3D
REFRESH-INTERVAL:P3D
CALSCALE:GREGORIAN
BEGIN:VEVENT
DTSTART:20170621T150000Z
DTEND:20170621T220000Z
X-MICROSOFT-CDO-ALLDAYEVENT:FALSE
SUMMARY:11th Annual Huntingdon County Chamber of Commerce & Bonney Forge Corp Open Golf Tournament
DESCRIPTION:Please join us at our 11th Annual Huntingdon County Chamber of Commerce & Bonney Forge Corporation Open Golf Tournament!
X-ALT-DESC;FMTTYPE=text/html:Please join us at our 11th Annual Huntingdon County Chamber of Commerce &amp\; Bonney Forge Corporation Open Golf Tournament!&nbsp\;
LOCATION:Huntingdon Country Club located at 10305 Raystown Road\, Route 26 South\, Huntingdon
UID:e.2132.430
SEQUENCE:3
DTSTAMP:20260426T021522Z
URL:https://business.huntingdonchamber.com/events/details/11th-annual-huntingdon-county-chamber-of-commerce-bonney-forge-corp-open-golf-tournament-430
END:VEVENT

END:VCALENDAR
