BEGIN:VCALENDAR
VERSION:2.0
PRODID:-//ChamberMaster//Event Calendar 2.0//EN
METHOD:PUBLISH
X-PUBLISHED-TTL:P3D
REFRESH-INTERVAL:P3D
CALSCALE:GREGORIAN
BEGIN:VEVENT
DTSTART:20190619T153000Z
DTEND:20190619T223000Z
X-MICROSOFT-CDO-ALLDAYEVENT:FALSE
SUMMARY:13th Annual HCCC & Bonney Forge Open Golf Tournament
DESCRIPTION:Join us for the 13th Annual Huntingdon County Chamber of Commerce & Bonney Forge Corp Open Golf Tournament.     \n\n\n\nPlease click here for the Golfer Registration Form. \n\n\n\nPlease click here for the Sponsorship Form.
X-ALT-DESC;FMTTYPE=text/html:Join us for the 13th Annual Huntingdon County Chamber of Commerce &amp\; Bonney Forge Corp Open Golf Tournament.&nbsp\;&nbsp\;&nbsp\;&nbsp\;&nbsp\;<br />\n<br />\nPlease <a href="https://chambermaster.blob.core.windows.net/userfiles/UserFiles/chambers/2132/File/GolferInvite2019.pdf"><u><strong>click here</strong></u></a> for the Golfer Registration Form.&nbsp\;<br />\n<br />\nPlease <a href="https://chambermaster.blob.core.windows.net/userfiles/UserFiles/chambers/2132/File/GolfSponsorships2019.pdf"><strong><u>click here</u></strong></a> for the Sponsorship Form.&nbsp\;
LOCATION:Huntingdon Country Club 10305 Raystown Road Huntingdon\, PA 16652
UID:e.2132.498
SEQUENCE:3
DTSTAMP:20260424T174424Z
URL:https://business.huntingdonchamber.com/events/details/13th-annual-hccc-bonney-forge-open-golf-tournament-498
END:VEVENT

END:VCALENDAR
