BEGIN:VCALENDAR
VERSION:2.0
PRODID:-//ChamberMaster//Event Calendar 2.0//EN
METHOD:PUBLISH
X-PUBLISHED-TTL:P3D
REFRESH-INTERVAL:P3D
CALSCALE:GREGORIAN
BEGIN:VEVENT
DTSTART:20191008T213000Z
DTEND:20191009T003000Z
X-MICROSOFT-CDO-ALLDAYEVENT:FALSE
SUMMARY:2019 Annual Awards Gala
DESCRIPTION:Please join us for our Annual Awards Dinner where we will honor seven businesses/individuals in the community. The reception will begin at 5:30 p.m. with hors d'oeuvres. Your first drink will be free and there is a cash bar thereafter. Dinner will begin at 6:00 p.m.
X-ALT-DESC;FMTTYPE=text/html:<span style="color: rgb(51\, 51\, 51)\; font-family: sans-serif\, Arial\, Verdana\, &quot\;Trebuchet MS&quot\;\; font-size: 13px\; background-color: rgb(255\, 255\, 255)\;">Please join us for our Annual Awards Dinner where we will honor seven businesses/individuals in the community. The reception will begin at 5:30 p.m. with hors d&#39\;oeuvres. Your first drink will be free and there is a cash bar thereafter. Dinner will begin at 6:00 p.m.&nbsp\;</span>
LOCATION:Huntingdon Country Club\, 10305 Raystown Road\, Rt. 26\, Huntingdon
UID:e.2132.510
SEQUENCE:3
DTSTAMP:20260424T134426Z
URL:https://business.huntingdonchamber.com/events/details/2019-annual-awards-gala-510
END:VEVENT

END:VCALENDAR
