BEGIN:VCALENDAR
VERSION:2.0
PRODID:-//ChamberMaster//Event Calendar 2.0//EN
METHOD:PUBLISH
X-PUBLISHED-TTL:P3D
REFRESH-INTERVAL:P3D
CALSCALE:GREGORIAN
BEGIN:VEVENT
DTSTART:20180228T223000Z
DTEND:20180301T000000Z
X-MICROSOFT-CDO-ALLDAYEVENT:FALSE
SUMMARY:2019 China Adventure Information Session
DESCRIPTION:On Wednesday\, February 28 from 5:30 to 7:00 p.m. there will be an informational session about the March 30-April 7\, 2019 China adventure.  This trip of a lifetime is only $2\,199 per person (double occupancy) and includes airfare\, five-star hotels\, all meals\, admissions and tour guide. Please visit click here for additional information about the trip. \n\n\n\nThe informational session is being held in the Education Center at JC Blair Memorial Hospital (across the parking lot from the hospital) and is free to attend\, but we ask that you RSVP to ymartin@huntingdonchamber.com\, 814-643-1110\, or by registering on this page online.
X-ALT-DESC;FMTTYPE=text/html:On Wednesday\, February 28 from 5:30 to 7:00 p.m. there will be an informational session about the March 30-April 7\, 2019&nbsp\;<span style="color: rgb(29\, 33\, 41)\; font-family: Helvetica\, sans-serif\; font-size: 14px\; background-color: rgb(255\, 255\, 255)\;">China adventure.&nbsp\; This trip of a lifetime&nbsp\;is only $2\,199 per person (double occupancy) and includes airfare\, five-star hotels\, all meals\, admissions and tour guide. Please visit <a href="http://www.huntingdonchamber.com/news/details/china-adventure-2019">click here</a>&nbsp\;</span><span style="color: rgb(29\, 33\, 41)\; font-family: Helvetica\, sans-serif\; font-size: 14px\; background-color: rgb(255\, 255\, 255)\;">for additional information about the trip.&nbsp\;<br />\n<br />\nThe informational session is being held in the Education Center at JC Blair Memorial Hospital (across the parking lot from the hospital) and is free to attend\, but we ask that you RSVP to ymartin@huntingdonchamber.com\, 814-643-1110\, or by registering on this page online.&nbsp\;</span>
LOCATION:
UID:e.2132.450
SEQUENCE:3
DTSTAMP:20260425T151048Z
URL:https://business.huntingdonchamber.com/events/details/2019-china-adventure-information-session-450
END:VEVENT

END:VCALENDAR
