BEGIN:VCALENDAR
VERSION:2.0
PRODID:-//ChamberMaster//Event Calendar 2.0//EN
METHOD:PUBLISH
X-PUBLISHED-TTL:P3D
REFRESH-INTERVAL:P3D
CALSCALE:GREGORIAN
BEGIN:VEVENT
DTSTART:20190918T190000Z
DTEND:20190918T220000Z
X-MICROSOFT-CDO-ALLDAYEVENT:FALSE
SUMMARY:2019 Sporting Clay Tournament
DESCRIPTION:The Sporting Clay Tournament is scheduled for Wednesday\, September 18\, 2019 at Shenecoy Sportsmen Club. The tournament begins at 3:00 and dinner is at 5:00. \n\n\n\nClick here for the registration form. \n\n\n\nClick here for the sponsorship form. \n\n\n\nA special thanks to our sponsors:\n\n\n\nCBT Bank - Presenting Sponsor\n\nFairfield Inn & Suites - Dinner Sponsor\n\nACCO Brands and Keller Engineers - Beverage Sponsors
X-ALT-DESC;FMTTYPE=text/html:The Sporting Clay Tournament is scheduled for Wednesday\, September 18\, 2019 at Shenecoy Sportsmen Club. The tournament begins at 3:00 and dinner is at 5:00.&nbsp\;<br />\n<br />\n<a href="https://chambermaster.blob.core.windows.net/userfiles/UserFiles/chambers/2132/File/SportingClayInvitation2019.pdf">Click here</a> for the registration form.&nbsp\;<br />\n<br />\n<a href="https://chambermaster.blob.core.windows.net/userfiles/UserFiles/chambers/2132/File/SportingClaySponsorshipForm2019.pdf">Click here</a> for the sponsorship form.&nbsp\;<br />\n<br />\nA special thanks to our sponsors:<br />\n<br />\nCBT Bank - Presenting Sponsor<br />\nFairfield Inn &amp\; Suites - Dinner Sponsor<br />\nACCO Brands and Keller Engineers - Beverage Sponsors
LOCATION:
UID:e.2132.509
SEQUENCE:3
DTSTAMP:20260424T134305Z
URL:https://business.huntingdonchamber.com/events/details/2019-sporting-clay-tournament-509
END:VEVENT

END:VCALENDAR
