BEGIN:VCALENDAR
VERSION:2.0
PRODID:-//ChamberMaster//Event Calendar 2.0//EN
METHOD:PUBLISH
X-PUBLISHED-TTL:P3D
REFRESH-INTERVAL:P3D
CALSCALE:GREGORIAN
BEGIN:VEVENT
DTSTART:20171017T120000Z
DTEND:20171017T200000Z
X-MICROSOFT-CDO-ALLDAYEVENT:FALSE
SUMMARY:Active Shooter Training
DESCRIPTION:Ian Thompson is the Vice President of Standing Stone Consulting\, Inc. and has 24 years of experience in Emergency Response and Crisis Management\, Law Enforcement\, Security Sciences and Protective Services\, and Crime Prevention Through Environmental Design. He is the originator or the process of Response Enhanced Design (RED). Ian has managed the security and emergency response for a number of large private communities\, served as Deputy Sheriff and works with the local County Emergency Management Agency. SSC has successfully work with schools\, universities\, businesses and all types of government agencies from rural Native Alaskan Villages to the urban Metropolitan Washington DC Council of Governments.
X-ALT-DESC;FMTTYPE=text/html:Ian Thompson is the Vice President of Standing Stone Consulting\, Inc. and has 24 years of experience in Emergency Response and Crisis Management\, Law Enforcement\, Security Sciences and Protective Services\, and Crime Prevention Through Environmental Design. He is the originator or the process of Response Enhanced Design (RED). Ian has managed the security and emergency response for a number of large private communities\, served as Deputy Sheriff and works with the local County Emergency Management Agency. SSC has successfully work with schools\, universities\, businesses and all types of government agencies from rural Native Alaskan Villages to the urban Metropolitan Washington DC Council of Governments.&nbsp\;
LOCATION:PA National Guard Readiness Center\, 10034 Raystown Road Huntingdon
UID:e.2132.438
SEQUENCE:3
DTSTAMP:20260425T204445Z
URL:https://business.huntingdonchamber.com/events/details/active-shooter-training-438
END:VEVENT

END:VCALENDAR
