BEGIN:VCALENDAR
VERSION:2.0
PRODID:-//ChamberMaster//Event Calendar 2.0//EN
METHOD:PUBLISH
X-PUBLISHED-TTL:P3D
REFRESH-INTERVAL:P3D
CALSCALE:GREGORIAN
BEGIN:VEVENT
DTSTART:20211028T210000Z
DTEND:20211028T230000Z
X-MICROSOFT-CDO-ALLDAYEVENT:FALSE
SUMMARY:Altoona/Blair County Airport/Boutique Air Business After Hours
DESCRIPTION:Join us to learn more about our local airport while networking with other Chamber members. \n\n\n\nThe airport offers daily flights from Pittsburgh (PIT) and Baltimore (BWI) with seamless connections to United and American Airlines in both locations. \n\n\n\nDoor prizes will include round trip tickets to PIT and BWI and a gift certificate to LA Fiesta Mexican Bar & Grille. \n\n\n\nAn aircraft will be available for attendees to tour. \n\n\n\nCatering will be by La Fiesta Mexican Bar & Grille. Alcoholic and non-alcoholic beverages will be available. \n\n\n\nParking will be adjacent to the airport terminal. \n\n\n\nDon't want to leave your kids at home? Bring them to this kid friendly event!
X-ALT-DESC;FMTTYPE=text/html:Join us to learn more about our local airport while networking with other Chamber members.&nbsp\;<br />\n<br />\nThe airport offers daily flights from Pittsburgh (PIT) and Baltimore (BWI) with seamless connections to United and American Airlines in both locations.&nbsp\;<br />\n<br />\nDoor prizes will include round trip tickets to PIT and BWI and a gift certificate to LA Fiesta Mexican Bar &amp\; Grille.&nbsp\;<br />\n<br />\nAn aircraft will be available for attendees to tour.&nbsp\;<br />\n<br />\nCatering will be by La Fiesta Mexican Bar &amp\; Grille. Alcoholic and non-alcoholic beverages will be available.&nbsp\;<br />\n<br />\nParking will be adjacent to the airport terminal.&nbsp\;<br />\n<br />\nDon&#39\;t want to leave your kids at home? Bring them to this kid friendly event!&nbsp\;
LOCATION:310 Airport Drive Martinsburg\, PA 16662
UID:e.2132.551
SEQUENCE:3
DTSTAMP:20260423T044315Z
URL:https://business.huntingdonchamber.com/events/details/altoona-blair-county-airport-boutique-air-business-after-hours-551
END:VEVENT

END:VCALENDAR
