BEGIN:VCALENDAR
VERSION:2.0
PRODID:-//ChamberMaster//Event Calendar 2.0//EN
METHOD:PUBLISH
X-PUBLISHED-TTL:P3D
REFRESH-INTERVAL:P3D
CALSCALE:GREGORIAN
BEGIN:VEVENT
DTSTART:20170829T210000Z
DTEND:20170829T230000Z
X-MICROSOFT-CDO-ALLDAYEVENT:FALSE
SUMMARY:Amanda Jenkins State Farm Agency Business After Hours
DESCRIPTION:Amanda Jenkins State Farm Agency will have Quirky Quizine catering their event. There will be non-alcoholic beverages available. There will be an ice cream bar and bounce house for children (weather permitting). This Business After Hours is a family friendly event. \n\n\n\nThere will be plenty of door prizes including an altas and some State Farm gear. There will be prizes for the kids as well. So make sure you bring your business card or fill out an entry! There will be parking off street in a parking lot and there is other local parking.
X-ALT-DESC;FMTTYPE=text/html:Amanda Jenkins State Farm Agency will have Quirky Quizine catering their event. There will be non-alcoholic beverages available. There will be an ice cream bar and bounce house for children (weather permitting). This Business After Hours is a family friendly event.&nbsp\;<br />\n<br />\nThere will be plenty of door prizes including an altas and some State Farm gear. There will be prizes for the kids as well. So make sure you bring your business card or fill out an entry! There will be parking off street in a parking lot and there is other local parking.&nbsp\;
LOCATION:540 Ridgley Street\, Orbisonia\, PA 17243
UID:e.2132.436
SEQUENCE:3
DTSTAMP:20260425T233433Z
URL:https://business.huntingdonchamber.com/events/details/amanda-jenkins-state-farm-agency-business-after-hours-436
END:VEVENT

END:VCALENDAR
