BEGIN:VCALENDAR
VERSION:2.0
PRODID:-//ChamberMaster//Event Calendar 2.0//EN
METHOD:PUBLISH
X-PUBLISHED-TTL:P3D
REFRESH-INTERVAL:P3D
CALSCALE:GREGORIAN
BEGIN:VEVENT
DTSTART:20190925T210000Z
DTEND:20190925T230000Z
X-MICROSOFT-CDO-ALLDAYEVENT:FALSE
SUMMARY:Amanda Jenkins\, State Farm Agency Business After Hours
DESCRIPTION:We're Ghost-Busting out of work! This will be a family friendly event so bring the kids to get pictures with the Ghostbuster crew!\n\n\n\nJenkies Joint is going to be catering. There will be a lot of door prizes for attendees so make sure you bring your business card to drop in the bucket! Some of the door prizes include a battery pack for your cell phone and proton packs. \n\n\n\nRequest a quote while you attend and help give back to our community! For every completed quote\, this team donates up to $10 to a local cause!
X-ALT-DESC;FMTTYPE=text/html:We&#39\;re Ghost-Busting out of work! This will be a family friendly event so bring the kids to get pictures with the Ghostbuster crew!<br />\n<br />\nJenkies Joint is going to be catering. There will be a lot of door prizes for attendees so make sure you bring your business card to drop in the bucket! Some of the door prizes include a battery pack for your cell phone and proton packs.&nbsp\;<br />\n<br />\nRequest a quote while you attend and help give back to our community! For every completed quote\, this team donates up to $10 to a local cause!
LOCATION:Amanda Jenkins\, State Farm Agency 540 Ridgley Street Orbisonia\, PA 17243
UID:e.2132.512
SEQUENCE:3
DTSTAMP:20260424T134550Z
URL:https://business.huntingdonchamber.com/events/details/amanda-jenkins-state-farm-agency-business-after-hours-512
END:VEVENT

END:VCALENDAR
