BEGIN:VCALENDAR
VERSION:2.0
PRODID:-//ChamberMaster//Event Calendar 2.0//EN
METHOD:PUBLISH
X-PUBLISHED-TTL:P3D
REFRESH-INTERVAL:P3D
CALSCALE:GREGORIAN
BEGIN:VEVENT
DTSTART:20211007T213000Z
DTEND:20211008T003000Z
X-MICROSOFT-CDO-ALLDAYEVENT:FALSE
SUMMARY:Annual Awards Gala
DESCRIPTION:The Huntingdon County Chamber of Commerce cordially invites you to attend the 2021 Annual Awards Gala. \n\n\n\nMenu: \n\nReception-Hors d'oeuvres\; first drink is free\, cash bar thereafter\n\nDinner-Chicken Cordon Bleu\, Roasted Red Potatoes\, Corn\, Tossed Salad and Rolls. Vegan Option Available. Trifle for dessert.
X-ALT-DESC;FMTTYPE=text/html:The Huntingdon County Chamber of Commerce cordially invites you to attend the 2021 Annual Awards Gala.&nbsp\;<br />\n<br />\nMenu:&nbsp\;<br />\nReception-Hors d&#39\;oeuvres\; first drink is free\, cash bar thereafter<br />\nDinner-Chicken Cordon Bleu\, Roasted Red Potatoes\, Corn\, Tossed Salad and Rolls. Vegan Option Available. Trifle for dessert.&nbsp\;<br />\n<br />\n&nbsp\;
LOCATION:Huntingdon Country Club 10305 Raystown Road (Route 26 South) Huntingdon\, PA 16652
UID:e.2132.549
SEQUENCE:3
DTSTAMP:20260423T055014Z
URL:https://business.huntingdonchamber.com/events/details/annual-awards-gala-549
END:VEVENT

END:VCALENDAR
