BEGIN:VCALENDAR
VERSION:2.0
PRODID:-//ChamberMaster//Event Calendar 2.0//EN
METHOD:PUBLISH
X-PUBLISHED-TTL:P3D
REFRESH-INTERVAL:P3D
CALSCALE:GREGORIAN
BEGIN:VEVENT
DTSTART:20170817T154500Z
DTEND:20170817T171500Z
X-MICROSOFT-CDO-ALLDAYEVENT:FALSE
SUMMARY:Annual "State of the Chamber" Luncheon
DESCRIPTION:The Huntingdon County Chamber of Commerce cordially invites you to attend the 2017 Annual "State of the Chamber" Luncheon presented by Terrace Mountain Lodge & Hawn's Bridge Recreation Area.
X-ALT-DESC;FMTTYPE=text/html:The Huntingdon County Chamber of Commerce cordially invites you to attend the 2017 Annual &quot\;State of the Chamber&quot\; Luncheon presented by Terrace Mountain Lodge &amp\; Hawn&#39\;s Bridge Recreation Area.&nbsp\;
LOCATION:In the second floor dining room of the Commons Building at Westminster Woods\, 140 Aspen Lane\, Huntingdon.
UID:e.2132.435
SEQUENCE:3
DTSTAMP:20260425T233332Z
URL:https://business.huntingdonchamber.com/events/details/annual-state-of-the-chamber-luncheon-435
END:VEVENT

END:VCALENDAR
