BEGIN:VCALENDAR
VERSION:2.0
PRODID:-//ChamberMaster//Event Calendar 2.0//EN
METHOD:PUBLISH
X-PUBLISHED-TTL:P3D
REFRESH-INTERVAL:P3D
CALSCALE:GREGORIAN
BEGIN:VEVENT
DTSTART:20190611T210000Z
DTEND:20190611T230000Z
X-MICROSOFT-CDO-ALLDAYEVENT:FALSE
SUMMARY:APM Business After Hours
DESCRIPTION:Join  us as we celebrate the 60th Anniversary of Allensville Planning Mill! They will have Top's Diner catering the event. Alcoholic and non-alcoholic beverages will be provided. Parking will be available in their store parking lot. Be sure to bring your business card for a chance to win door prizes!
X-ALT-DESC;FMTTYPE=text/html:<span style="language:en-US\;"><span style="font-family:tahoma\;"><span style="font-size:12.0pt\;">Join&nbsp\; us as we celebrate the 60th Anniversary of Allensville Planning Mill! They will have Top&rsquo\;s Diner catering the event. Alcoholic and non-alcoholic beverages will be provided. Parking will be available in their store parking lot. Be sure to bring your </span></span></span><span style="language:en-US\;"><span style="font-family:tahoma\;"><span style="font-size:12.0pt\;">business card for a chance to win door prizes!&nbsp\; </span></span></span><br />\n&nbsp\;
LOCATION:10381 Fairgrounds Road\, Huntingdon
UID:e.2132.501
SEQUENCE:3
DTSTAMP:20260424T185322Z
URL:https://business.huntingdonchamber.com/events/details/apm-business-after-hours-501
END:VEVENT

END:VCALENDAR
