BEGIN:VCALENDAR
VERSION:2.0
PRODID:-//ChamberMaster//Event Calendar 2.0//EN
METHOD:PUBLISH
X-PUBLISHED-TTL:P3D
REFRESH-INTERVAL:P3D
CALSCALE:GREGORIAN
BEGIN:VEVENT
DTSTART:20210921T210000Z
DTEND:20210921T230000Z
X-MICROSOFT-CDO-ALLDAYEVENT:FALSE
SUMMARY:Arize Federal Credit Union Business After Hours
DESCRIPTION:Join us as we celebrate Arize Federal Credit Union's One Year Anniversary in their new Huntingdon office! They opened the new building during quarantine and they're ready to show it off! The office is completely powered by solar panels. \n\n\n\nThree Twelve Kitchen and Cocktails will be catering and ReKlaimed Vines Winery & Vineyard will serve alcoholic beverages. There will be non-alcoholic beverages as well. Door prizes will include various gift baskets. Park along Shaner Blvd. The Arize parking lot will be reserved for handicap parking.
X-ALT-DESC;FMTTYPE=text/html:Join us as we celebrate Arize Federal Credit Union&#39\;s One Year Anniversary in their new Huntingdon office! They opened the new building during quarantine and they&#39\;re ready to show it off! The office is completely powered by solar panels.&nbsp\;<br />\n<br />\nThree Twelve Kitchen and Cocktails will be catering and ReKlaimed Vines Winery &amp\; Vineyard will serve alcoholic beverages. There will be non-alcoholic beverages as well. Door prizes will include various gift baskets. Park along Shaner Blvd. The Arize parking lot will be reserved for handicap parking.&nbsp\;
LOCATION:Arize Federal Credit Union 9902 Shaner Blvd Huntingdon\, PA 16652
UID:e.2132.546
SEQUENCE:3
DTSTAMP:20260423T055921Z
URL:https://business.huntingdonchamber.com/events/details/arize-federal-credit-union-business-after-hours-546
END:VEVENT

END:VCALENDAR
