BEGIN:VCALENDAR
VERSION:2.0
PRODID:-//ChamberMaster//Event Calendar 2.0//EN
METHOD:PUBLISH
X-PUBLISHED-TTL:P3D
REFRESH-INTERVAL:P3D
CALSCALE:GREGORIAN
BEGIN:VEVENT
DTSTART:20190516T210000Z
DTEND:20190517T000000Z
X-MICROSOFT-CDO-ALLDAYEVENT:FALSE
SUMMARY:Business Showcase Business After Hours
DESCRIPTION:Join us for the Business Showcase Business After Hours on Thursday\, May 16 at from 5:00 to 8:00 at the Smithfield Fire Hall. Email mhuntsman@huntingdonchamber.com to register. The current list of participants is below.\n\n \n\n	\n		\n			Alexis Thompson\, Realtor (Perry Wellington Reality)\n		\n		\n			Apex Realty Group \n		\n		\n			Cricket Wireless at One-Stop\n		\n		\n			F&M Trust\n		\n		\n			First National Bank\n		\n		\n			MCS Bank \n		\n		\n			SPE Federal Credit Union \n		\n		\n			Nancy MacNamara\n		\n		\n			Lincoln Caverns\n		\n		\n			Family Chiropractic\n		\n		\n			Valley Rural Electric\n		\n		\n			Isett Acres Museum \n		\n		\n			A-1 Pro\n		\n	\n\n \n\nA special thanks to our sponsors:\n\nSPE Federal Credit Union\n\nMCS Bank
X-ALT-DESC;FMTTYPE=text/html:Join us for the Business Showcase Business After Hours on Thursday\, May 16 at from 5:00 to 8:00 at the Smithfield Fire Hall. Email <a href="mailto:mhuntsman@huntingdonchamber.com">mhuntsman@huntingdonchamber.com</a> to register. The current list of participants is below.<br />\n&nbsp\;\n<table border="0" cellpadding="0" cellspacing="0" style="width:341px\;border-collapse:collapse\;" width="341">\n	<tbody>\n		<tr style="height:20px\;">\n			<td nowrap="nowrap" style="width:341px\;padding:0in 5.4pt 0in 5.4pt\;height:20px\;vertical-align:bottom\;"><span style="color:black\;">Alexis Thompson\, Realtor (Perry Wellington Reality)</span></td>\n		</tr>\n		<tr style="height:20px\;">\n			<td nowrap="nowrap" style="width:341px\;padding:0in 5.4pt 0in 5.4pt\;height:20px\;vertical-align:bottom\;"><span style="color:black\;">Apex Realty Group </span></td>\n		</tr>\n		<tr style="height:20px\;">\n			<td nowrap="nowrap" style="width:341px\;padding:0in 5.4pt 0in 5.4pt\;height:20px\;vertical-align:bottom\;"><span style="color:black\;">Cricket Wireless at One-Stop</span></td>\n		</tr>\n		<tr style="height:20px\;">\n			<td nowrap="nowrap" style="width:341px\;padding:0in 5.4pt 0in 5.4pt\;height:20px\;vertical-align:bottom\;"><span style="color:black\;">F&amp\;M Trust</span></td>\n		</tr>\n		<tr style="height:20px\;">\n			<td nowrap="nowrap" style="width:341px\;padding:0in 5.4pt 0in 5.4pt\;height:20px\;vertical-align:bottom\;"><span style="color:black\;">First National Bank</span></td>\n		</tr>\n		<tr style="height:20px\;">\n			<td nowrap="nowrap" style="width:341px\;padding:0in 5.4pt 0in 5.4pt\;height:20px\;vertical-align:bottom\;"><span style="color:black\;">MCS Bank </span></td>\n		</tr>\n		<tr style="height:20px\;">\n			<td nowrap="nowrap" style="width:341px\;padding:0in 5.4pt 0in 5.4pt\;height:20px\;vertical-align:bottom\;"><span style="color:black\;">SPE Federal Credit Union </span></td>\n		</tr>\n		<tr style="height:20px\;">\n			<td nowrap="nowrap" style="width:341px\;padding:0in 5.4pt 0in 5.4pt\;height:20px\;vertical-align:bottom\;"><span style="color:black\;">Nancy MacNamara</span></td>\n		</tr>\n		<tr style="height:20px\;">\n			<td nowrap="nowrap" style="width:341px\;padding:0in 5.4pt 0in 5.4pt\;height:20px\;vertical-align:bottom\;"><span style="color:black\;">Lincoln Caverns</span></td>\n		</tr>\n		<tr style="height:20px\;">\n			<td nowrap="nowrap" style="width:341px\;padding:0in 5.4pt 0in 5.4pt\;height:20px\;vertical-align:bottom\;"><span style="color:black\;">Family Chiropractic</span></td>\n		</tr>\n		<tr style="height:20px\;">\n			<td nowrap="nowrap" style="width:341px\;padding:0in 5.4pt 0in 5.4pt\;height:20px\;vertical-align:bottom\;"><span style="color:black\;">Valley Rural Electric</span></td>\n		</tr>\n		<tr style="height:20px\;">\n			<td nowrap="nowrap" style="width:341px\;padding:0in 5.4pt 0in 5.4pt\;height:20px\;vertical-align:bottom\;"><span style="color:black\;">Isett Acres Museum </span></td>\n		</tr>\n		<tr style="height:20px\;">\n			<td nowrap="nowrap" style="width:341px\;padding:0in 5.4pt 0in 5.4pt\;height:20px\;vertical-align:bottom\;"><span style="color:black\;">A-1 Pro</span></td>\n		</tr>\n	</tbody>\n</table>\n&nbsp\;<br />\nA special thanks to our sponsors:<br />\nSPE Federal Credit Union<br />\nMCS Bank
LOCATION:
UID:e.2132.499
SEQUENCE:3
DTSTAMP:20260424T191717Z
URL:https://business.huntingdonchamber.com/events/details/business-showcase-business-after-hours-499
END:VEVENT

END:VCALENDAR
