BEGIN:VCALENDAR
VERSION:2.0
PRODID:-//ChamberMaster//Event Calendar 2.0//EN
METHOD:PUBLISH
X-PUBLISHED-TTL:P3D
REFRESH-INTERVAL:P3D
CALSCALE:GREGORIAN
BEGIN:VEVENT
DTSTART:20181011T213000Z
DTEND:20181011T223000Z
X-MICROSOFT-CDO-ALLDAYEVENT:FALSE
SUMMARY:China Information Session
DESCRIPTION:There will be an information session about the March 30 - Arpil 7\, 2019 China Adventure from 5:30 to 6:30 at the JC Blair Memorial Hospital Education Center.  The Education Center is across the parking lot from the hospital. \n\n\n\nTrip details can be found by clicking here.
X-ALT-DESC;FMTTYPE=text/html:<span background-color:="" font-size:="" style="color: rgb(51\, 51\, 51)\; font-family: sans-serif\, Arial\, Verdana\, " trebuchet="">There will be an information session about the March 30 - Arpil 7\, 2019 China Adventure from 5:30 to 6:30 at the JC Blair Memorial Hospital Education Center.&nbsp\; The Education Center is across the parking lot from the hospital.&nbsp\;</span><br font-size:="" style="color: rgb(51\, 51\, 51)\; font-family: sans-serif\, Arial\, Verdana\, " trebuchet="" />\n<br font-size:="" style="color: rgb(51\, 51\, 51)\; font-family: sans-serif\, Arial\, Verdana\, " trebuchet="" />\n<span background-color:="" font-size:="" style="color: rgb(51\, 51\, 51)\; font-family: sans-serif\, Arial\, Verdana\, " trebuchet="">Trip details can be found by <a href="https://www.huntingdonchamber.com/news/details/china-adventure-2019">clicking here</a>.&nbsp\;</span>
LOCATION:
UID:e.2132.473
SEQUENCE:3
DTSTAMP:20260425T042228Z
URL:https://business.huntingdonchamber.com/events/details/china-information-session-473
END:VEVENT

END:VCALENDAR
