BEGIN:VCALENDAR
VERSION:2.0
PRODID:-//ChamberMaster//Event Calendar 2.0//EN
METHOD:PUBLISH
X-PUBLISHED-TTL:P3D
REFRESH-INTERVAL:P3D
CALSCALE:GREGORIAN
BEGIN:VEVENT
DTSTART:20170627T210000Z
DTEND:20170627T230000Z
X-MICROSOFT-CDO-ALLDAYEVENT:FALSE
SUMMARY:Containment Solutions Business After Hours
DESCRIPTION:Please join us as we tour Containment Solutions! They will have the Huntingdon B.P.O. Elks Lodge #976 catering the event. Non-alcoholic beverages will be available. There will be plenty of parking in their parking lot. They are having door prizes so don't forget to bring your business cards to drop in the bucket! \n\n\n\nContainment Solutions is also the proud winner of the 2016 Business of the Year Award presented at the Huntingdon County Chamber of Commerce's Annual Awards Gala!
X-ALT-DESC;FMTTYPE=text/html:Please join us as we tour Containment Solutions! They will have the Huntingdon B.P.O. Elks Lodge #976 catering the event. Non-alcoholic beverages will be available. There will be plenty of parking in their parking lot. They are having door prizes so don&#39\;t forget to bring your business cards to drop in the bucket!&nbsp\;<br />\n<br />\nContainment Solutions is also the proud winner of the 2016 Business of the Year Award presented at the Huntingdon County Chamber of Commerce&#39\;s Annual Awards Gala!&nbsp\;
LOCATION:Containment Solutions 14489 Croghan Pike Mount Union\, PA 17066
UID:e.2132.432
SEQUENCE:3
DTSTAMP:20260426T021214Z
URL:https://business.huntingdonchamber.com/events/details/containment-solutions-business-after-hours-432
END:VEVENT

END:VCALENDAR
