BEGIN:VCALENDAR
VERSION:2.0
PRODID:-//ChamberMaster//Event Calendar 2.0//EN
METHOD:PUBLISH
X-PUBLISHED-TTL:P3D
REFRESH-INTERVAL:P3D
CALSCALE:GREGORIAN
BEGIN:VEVENT
DTSTART:20210210T150000Z
DTEND:20210210T160000Z
X-MICROSOFT-CDO-ALLDAYEVENT:FALSE
SUMMARY:Conversation with SBA about COVID Relief
DESCRIPTION:Conversation with SBA about COVID Relief\n\nPresented by Solomon Wheeler\, U.S. Small Business Administration\n\n\n\nJoin us via Zoom for an informative presentation on the new COVID-19 relief funding brought to you by the SBA. \n\n\n\nThis presentation will go over the PPP (Paycheck Protection Program)\, EIDL (Economic Injury Disaster Loan)\, Venue funding and other funding sources. \n\n\n\nSolomon Wheeler is currently the Harrisburg Branch Manager for the U.S. Small Business Administration's Eastern Pennsylvania office. \n\n\n\nClick here to register for the event. There is no cost for this webinar.
X-ALT-DESC;FMTTYPE=text/html:Conversation with SBA about COVID Relief<br />\nPresented by Solomon Wheeler\, U.S. Small Business Administration<br />\n<br />\nJoin us via Zoom for an informative presentation on the new COVID-19 relief funding brought to you by the SBA.&nbsp\;<br />\n<br />\nThis presentation will go over the PPP (Paycheck Protection Program)\, EIDL (Economic Injury Disaster Loan)\, Venue funding and other funding sources.&nbsp\;<br />\n<br />\nSolomon Wheeler is currently the Harrisburg Branch Manager for the U.S. Small Business Administration&#39\;s Eastern Pennsylvania office.&nbsp\;<br />\n<br />\n<a href="https://us02web.zoom.us/meeting/register/tZItceygqjwqHdeEdtjRhghxFOsLext7DmV0">Click here</a> to register for the event. There is no cost for this webinar.&nbsp\;
LOCATION:
UID:e.2132.534
SEQUENCE:3
DTSTAMP:20260423T153938Z
URL:https://business.huntingdonchamber.com/events/details/conversation-with-sba-about-covid-relief-534
END:VEVENT

END:VCALENDAR
