BEGIN:VCALENDAR
VERSION:2.0
PRODID:-//ChamberMaster//Event Calendar 2.0//EN
METHOD:PUBLISH
X-PUBLISHED-TTL:P3D
REFRESH-INTERVAL:P3D
CALSCALE:GREGORIAN
BEGIN:VEVENT
DTSTART:20180419T210000Z
DTEND:20180419T230000Z
X-MICROSOFT-CDO-ALLDAYEVENT:FALSE
SUMMARY:Cricket Wireless Business After Hours
DESCRIPTION:Cricket Wireless has 4 lines with unlimited talk\, text and data for $100 per month right now! They are the fastest growing prepaid service. Come see what all the excitement is about! They will have Top's Diner catering the event. Alcoholic and non-alcoholic beverages will be provided. \n\n \n\nYou aren't going to want to miss the chance to win their door prize! They have a \n\nSamsung Galaxy Amp Prime with accessories and one month of service to give away as their door prize. There will be parking available in the Plaza and overflow at Hoss's.
X-ALT-DESC;FMTTYPE=text/html:<span style="language:en-US\;"><span style="font-family:tahoma\;"><span style="font-size:12.0pt\;">Cricket Wireless has 4 lines with unlimited talk\, text and data for $100 per month right now! They are the fastest growing prepaid service. Come see what all the excitement is about! They will have Top&rsquo\;s Diner catering the event. Alcoholic and non-alcoholic beverages will be provided. </span></span></span><br />\n&nbsp\;<br />\n<span style="language:en-US\;"><span style="font-family:tahoma\;"><span style="font-size:12.0pt\;">You aren&rsquo\;t going to want to miss the chance to win their door prize! They have a </span></span></span><br />\n<span style="language:en-US\;"><span style="font-family:tahoma\;"><span style="font-size:12.0pt\;">Samsung Galaxy Amp Prime with accessories and one month of service to give away as their door prize. There will be parking available in the Plaza and overflow at Hoss&rsquo\;s. </span></span></span><br />\n&nbsp\;<br />\n&nbsp\;
LOCATION:9048 William Penn Highway\, Huntingdon.
UID:e.2132.458
SEQUENCE:3
DTSTAMP:20260425T122727Z
URL:https://business.huntingdonchamber.com/events/details/cricket-wireless-business-after-hours-458
END:VEVENT

END:VCALENDAR
