BEGIN:VCALENDAR
VERSION:2.0
PRODID:-//ChamberMaster//Event Calendar 2.0//EN
METHOD:PUBLISH
X-PUBLISHED-TTL:P3D
REFRESH-INTERVAL:P3D
CALSCALE:GREGORIAN
BEGIN:VEVENT
DTSTART:20190130T133000Z
DTEND:20190130T160000Z
X-MICROSOFT-CDO-ALLDAYEVENT:FALSE
SUMMARY:Dale Carnegie Employee Engagement Seminar
DESCRIPTION:Today\, employee engagement and loyalty are more vital than ever to an organization's success and competitive advantage! The biggest hurdle facing today's leaders is how to interact with and create an engaged workforce. This training will illustrate the actions that leaders should implement to overcome negativity\, turn engagement into performance\, build trust\, show appreciation\, and promote communication. \n\n\n\nPresented by:\n\nMonica LeSage\, Director of Client Experience\n\n\n\nMonica has 15+ years experience working with business professionals\, peers\, healthcare professionals\, patients\, and students in simplyifying complex information and influencing behavior. She is a Certified Dale Carnegie Facilitator and certified in the following curriculum areas: Human Relations\, Conflict Management\, Leadership\, Sales\, Presentation Skills\, Process Improvement\, Communications\, and Change Management. She also has Industry Training Experience in the following industries: Insurance\, Travel\, Bio-Technology\, Retail\, Call Centers\, Emergency Roadside Assistance and Automotive. She has a B.S. in Chemistry/Biology.
X-ALT-DESC;FMTTYPE=text/html:Today\, employee engagement and loyalty are more vital than ever to an organization&#39\;s success and competitive advantage! The biggest hurdle facing today&#39\;s leaders is how to interact with and create an engaged workforce. This training will illustrate the actions that leaders should implement to overcome negativity\, turn engagement into performance\, build trust\, show appreciation\, and promote communication.&nbsp\;<br />\n<br />\nPresented by:<br />\nMonica LeSage\, Director of Client Experience<br />\n<br />\nMonica has 15+ years experience working with business professionals\, peers\, healthcare professionals\, patients\, and students in simplyifying complex information and influencing behavior. She is a Certified Dale Carnegie Facilitator and certified in the following curriculum areas: Human Relations\, Conflict Management\, Leadership\, Sales\, Presentation Skills\, Process Improvement\, Communications\, and Change Management. She also has Industry Training Experience in the following industries: Insurance\, Travel\, Bio-Technology\, Retail\, Call Centers\, Emergency Roadside Assistance and Automotive. She has a B.S. in Chemistry/Biology.&nbsp\;
LOCATION:Comfort Inn\, Huntingdon 100 South 4th Street
UID:e.2132.483
SEQUENCE:3
DTSTAMP:20260425T000639Z
URL:https://business.huntingdonchamber.com/events/details/dale-carnegie-employee-engagement-seminar-483
END:VEVENT

END:VCALENDAR
