BEGIN:VCALENDAR
VERSION:2.0
PRODID:-//ChamberMaster//Event Calendar 2.0//EN
METHOD:PUBLISH
X-PUBLISHED-TTL:P3D
REFRESH-INTERVAL:P3D
CALSCALE:GREGORIAN
BEGIN:VEVENT
DTSTART:20190515T123000Z
DTEND:20190515T150000Z
X-MICROSOFT-CDO-ALLDAYEVENT:FALSE
SUMMARY:Dale Carnegie Employee Engagement Seminar
DESCRIPTION:Dale Carnegie Employee Engagement \n\n \n\nToday\, employee engagement and loyalty are more vital than ever to an organizations's success and competitive advantage! The biggest hurdle facing today's leaders is how to interact with and create an engaged workforce. This training will illustrate the actions that leaders should implement to overcome negativity\, turn engagement into performance\, build trust\, show appreciation\, and promote communication.
X-ALT-DESC;FMTTYPE=text/html:<span style="language:en-US\;"><span style="color:black\;"><span style="font-family:bodoni mt\;"><span style="font-size:18.0pt\;">Dale Carnegie Employee Engagement </span></span></span></span><br />\n&nbsp\;<br />\n<font color="#000000" face="bodoni mt"><span style="font-size: 18.6667px\;">Today\, employee engagement and loyalty are more vital than ever to an organizations&#39\;s success and competitive advantage! The biggest hurdle facing today&#39\;s leaders is how to interact with and create an engaged workforce. This training will illustrate the actions that leaders should implement to overcome negativity\, turn engagement into performance\, build trust\, show appreciation\, and promote communication.&nbsp\;</span></font><br />\n&nbsp\;
LOCATION:Comfort Inn\, Huntingdon (100 South 4th Street\, Huntingdon)
UID:e.2132.494
SEQUENCE:3
DTSTAMP:20260424T191840Z
URL:https://business.huntingdonchamber.com/events/details/dale-carnegie-employee-engagement-seminar-494
END:VEVENT

END:VCALENDAR
