BEGIN:VCALENDAR
VERSION:2.0
PRODID:-//ChamberMaster//Event Calendar 2.0//EN
METHOD:PUBLISH
X-PUBLISHED-TTL:P3D
REFRESH-INTERVAL:P3D
CALSCALE:GREGORIAN
BEGIN:VEVENT
DTSTART:20190320T123000Z
DTEND:20190320T150000Z
X-MICROSOFT-CDO-ALLDAYEVENT:FALSE
SUMMARY:Dale Carnegie Generational Gap Seminar
DESCRIPTION:Generational differences can result in productivity-killing conflict or seamless collaboration - it's up to you! Participants will: learn what makes different generations tick\, practice a tool to build postive relationships\, challenge your preconceptions\, earn the trust of each generation through respect\, resolve generational conflicts\, coach members of each generation to peak performance\, develop cross-generational relationships\, give feedback that resonates with all generations\, and apply nine ways to change behavior without creating resentment. \n\n\n\nPresented by:\n\nMonica LeSage\, Director of Client Experience\n\n\n\nMonica has 15+ years experience working with business professionals\, peers\, healthcare professionals\, patients\, and students in simplyifying complex information and influencing behavior. She is a Certified Dale Carnegie Facilitator and certified in the following curriculum areas: Human Relations\, Conflict Management\, Leadership\, Sales\, Presentation Skills\, Process Improvement\, Communications\, and Change Management. She also has Industry Training Experience in the following industries: Insurance\, Travel\, Bio-Technology\, Retail\, Call Centers\, Emergency Roadside Assistance and Automotive. She has a B.S. in Chemistry/Biology.
X-ALT-DESC;FMTTYPE=text/html:Generational differences can result in productivity-killing conflict or seamless collaboration - it&#39\;s up to you! Participants will: learn what makes different generations tick\, practice a tool to build postive relationships\, challenge your preconceptions\, earn the trust of each generation through respect\, resolve generational conflicts\, coach members of each generation to peak performance\, develop cross-generational relationships\, give feedback that resonates with all generations\, and apply nine ways to change behavior without creating resentment.&nbsp\;<br />\n<br />\n<span style="color: rgb(51\, 51\, 51)\; font-family: sans-serif\, Arial\, Verdana\, &quot\;Trebuchet MS&quot\;\; font-size: 13px\; background-color: rgb(255\, 255\, 255)\;">Presented by:</span><br style="color: rgb(51\, 51\, 51)\; font-family: sans-serif\, Arial\, Verdana\, &quot\;Trebuchet MS&quot\;\; font-size: 13px\;" />\n<span style="color: rgb(51\, 51\, 51)\; font-family: sans-serif\, Arial\, Verdana\, &quot\;Trebuchet MS&quot\;\; font-size: 13px\; background-color: rgb(255\, 255\, 255)\;">Monica LeSage\, Director of Client Experience</span><br style="color: rgb(51\, 51\, 51)\; font-family: sans-serif\, Arial\, Verdana\, &quot\;Trebuchet MS&quot\;\; font-size: 13px\;" />\n<br style="color: rgb(51\, 51\, 51)\; font-family: sans-serif\, Arial\, Verdana\, &quot\;Trebuchet MS&quot\;\; font-size: 13px\;" />\n<span style="color: rgb(51\, 51\, 51)\; font-family: sans-serif\, Arial\, Verdana\, &quot\;Trebuchet MS&quot\;\; font-size: 13px\; background-color: rgb(255\, 255\, 255)\;">Monica has 15+ years experience working with business professionals\, peers\, healthcare professionals\, patients\, and students in simplyifying complex information and influencing behavior. She is a Certified Dale Carnegie Facilitator and certified in the following curriculum areas: Human Relations\, Conflict Management\, Leadership\, Sales\, Presentation Skills\, Process Improvement\, Communications\, and Change Management. She also has Industry Training Experience in the following industries: Insurance\, Travel\, Bio-Technology\, Retail\, Call Centers\, Emergency Roadside Assistance and Automotive. She has a B.S. in Chemistry/Biology.&nbsp\;</span>
LOCATION:Comfort Inn\, Huntingdon 100 South 4th Street
UID:e.2132.484
SEQUENCE:3
DTSTAMP:20260424T213958Z
URL:https://business.huntingdonchamber.com/events/details/dale-carnegie-generational-gap-seminar-484
END:VEVENT

END:VCALENDAR
