BEGIN:VCALENDAR
VERSION:2.0
PRODID:-//ChamberMaster//Event Calendar 2.0//EN
METHOD:PUBLISH
X-PUBLISHED-TTL:P3D
REFRESH-INTERVAL:P3D
CALSCALE:GREGORIAN
BEGIN:VEVENT
DTSTART:20181107T133000Z
DTEND:20181107T160000Z
X-MICROSOFT-CDO-ALLDAYEVENT:FALSE
SUMMARY:Dale Carnegie Servant Leadership
DESCRIPTION:While there are many styles of leadership\, servant leadership is one of the most transformative. A blend of the leader and the servant\, servant leaders lead with others in mind-it's about others\, not me. Today's servant leaders are sought after in all industries to lead the "people side" of process improvement that is impacting a business' bottom-line in a compelling way. Companies led by servant leaders have higher employee engagement. This workshop helps leaders focus more on the employees-and drive more commitment and more productivity. \n\n\n\nPresented by: John Rogers\, Dale Carnegie President and CEO\n\n\n\nJohn is a 1984 graduate of Pennsylvania State University. He is the franchise owner for JR Rodgers & Associates\, Inc.\, and the Dale Carnegie Traning Franchise in Pittsburgh\, which represents counties in Pennsylvania\, New York\, Ohio and West Virginia. John has been a Dale Carnegie instructor since 1989 and has gained international recognition by Dale Carnegie & Associates\, Inc. as one of the top marketing associates and instructors in the world! He is a published author and his first book is Becoming a Servant Leader.
X-ALT-DESC;FMTTYPE=text/html:While there are many styles of leadership\, servant leadership is one of the most transformative. A blend of the leader and the servant\, servant leaders lead with others in mind-it&#39\;s about others\, not me. Today&#39\;s servant leaders are sought after in all industries to lead the &quot\;people side&quot\; of process improvement that is impacting a business&#39\; bottom-line in a compelling way. Companies led by servant leaders have higher employee engagement. This workshop helps leaders focus more on the employees-and drive more commitment and more productivity.&nbsp\;<br />\n<br />\nPresented by: John Rogers\, Dale Carnegie President and CEO<br />\n<br />\nJohn is a 1984 graduate of Pennsylvania State University. He is the franchise owner for JR Rodgers &amp\; Associates\, Inc.\, and the Dale Carnegie Traning Franchise in Pittsburgh\, which represents counties in Pennsylvania\, New York\, Ohio and West Virginia. John has been a Dale Carnegie instructor since 1989 and has gained international recognition by Dale Carnegie &amp\; Associates\, Inc. as one of the top marketing associates and instructors in the world! He is a published author and his first book is<em> Becoming a Servant Leader.</em>
LOCATION:Comfort Inn\, Huntingdon 100 South 4th Street Huntingdon\, PA 16652
UID:e.2132.474
SEQUENCE:3
DTSTAMP:20260425T025950Z
URL:https://business.huntingdonchamber.com/events/details/dale-carnegie-servant-leadership-474
END:VEVENT

END:VCALENDAR
