BEGIN:VCALENDAR
VERSION:2.0
PRODID:-//ChamberMaster//Event Calendar 2.0//EN
METHOD:PUBLISH
X-PUBLISHED-TTL:P3D
REFRESH-INTERVAL:P3D
CALSCALE:GREGORIAN
BEGIN:VEVENT
DTSTART:20190824T010000Z
DTEND:20190824T030000Z
X-MICROSOFT-CDO-ALLDAYEVENT:FALSE
SUMMARY:Dale Carnegie Succession Planning Seminar
DESCRIPTION:It is the responsibility of every leader to provide leadership succession in their organization. This involves at least four distinct areas of preparation and effort: replacement planning\, talent management\, succession planning\, and succession management. Leaders need to examine each of these responsibilities\, outline the organizational issues that must be addressed in each area\, and create a succession plan. Come and learn what is meant by these areas and then uncover some practical tips on how to begin the planning process.
X-ALT-DESC;FMTTYPE=text/html:It is the responsibility of every leader to provide leadership succession in their organization. This involves at least four distinct areas of preparation and effort: replacement planning\, talent management\, succession planning\, and succession management. Leaders need to examine each of these responsibilities\, outline the organizational issues that must be addressed in each area\, and create a succession plan. Come and learn what is meant by these areas and then uncover some practical tips on how to begin the planning process.&nbsp\;&nbsp\;&nbsp\;&nbsp\;&nbsp\;
LOCATION:Comfort Inn\, Huntingdon 100 South\, 4th Street
UID:e.2132.506
SEQUENCE:3
DTSTAMP:20260424T151859Z
URL:https://business.huntingdonchamber.com/events/details/dale-carnegie-succession-planning-seminar-506
END:VEVENT

END:VCALENDAR
