BEGIN:VCALENDAR
VERSION:2.0
PRODID:-//ChamberMaster//Event Calendar 2.0//EN
METHOD:PUBLISH
X-PUBLISHED-TTL:P3D
REFRESH-INTERVAL:P3D
CALSCALE:GREGORIAN
BEGIN:VEVENT
DTSTART:20190123T170000Z
DTEND:20190123T180000Z
X-MICROSOFT-CDO-ALLDAYEVENT:FALSE
SUMMARY:Emergency Prevention Lunch and Learn
DESCRIPTION:Calling all Business Owners\, Directors or Administrators!\n\n\n\nJoe Thompson of the Huntingdon County Emergency Management Agency and Jess Peters of A-1 Pro Disaster Restoration of Huntingdon will be presenting on the following:\n\n	What local emergencies could likely affect your facility and the impact they could have\n	Tips and FREE Tools (Easy to Implement) that can be used right away to minimize impact to business interruption/continuity\n	Any business large or small will benefit from the free helpful resources to be provided in preparation for\, during and after an emergency event\n\n\n\n*Business owner or decision maker must be present to receive FREE resources and tools to implement.
X-ALT-DESC;FMTTYPE=text/html:Calling all Business Owners\, Directors or Administrators!<br />\n<br />\nJoe Thompson of the Huntingdon County Emergency Management Agency and Jess Peters of A-1 Pro Disaster Restoration of Huntingdon will be presenting on the following:\n<ul>\n	<li>What local emergencies could likely affect your facility and the impact they could have</li>\n	<li>Tips and FREE Tools (Easy to Implement) that can be used right away to minimize impact to business interruption/continuity</li>\n	<li>Any business large or small will benefit from the free helpful resources to be provided in preparation for\, during and after an emergency event</li>\n</ul>\n<br />\n*Business owner or decision maker must be present to receive FREE resources and tools to implement.&nbsp\;
LOCATION:Huntingdon County Career & Technology Center 11893 Technology Drive\, Mill Creek
UID:e.2132.482
SEQUENCE:3
DTSTAMP:20260425T000250Z
URL:https://business.huntingdonchamber.com/events/details/emergency-prevention-lunch-and-learn-482
END:VEVENT

END:VCALENDAR
