BEGIN:VCALENDAR
VERSION:2.0
PRODID:-//ChamberMaster//Event Calendar 2.0//EN
METHOD:PUBLISH
X-PUBLISHED-TTL:P3D
REFRESH-INTERVAL:P3D
CALSCALE:GREGORIAN
BEGIN:VEVENT
DTSTART:20190227T170000Z
DTEND:20190227T180000Z
X-MICROSOFT-CDO-ALLDAYEVENT:FALSE
SUMMARY:Emergency Prevention Lunch and Learn
DESCRIPTION:Emergency/Disaster Prevention and Planning \n\nPresented by Joe Thompson & Jess Peters\n\n \n\nCalling all Business Owners\, Directors or Administrators! \n\nJoe Thompson of the Huntingdon County Emergency Management Agency and Jess Peters of A-1Pro  Disaster Restoration of Huntingdon will be presenting on the following:\n\n  What local emergencies could likely affect your facility and the impact they could have\n\n  Tips and FREE Tools (Easy to implement) that can be used right away to minimize impact to business interruption/continuity\n\n  Any business large or small will benefit from the free helpful resources to be provided in preparation for\, during and after an emergency event. \n\n*Business owner or decision maker must be present to receive FREE resources and tools to implement.
X-ALT-DESC;FMTTYPE=text/html:<div style="text-align: center\;"><span style="font-weight:bold\;language:en-US\;"><span style="color:#1F497D\;"><span style="font-family:calibri\;"><span style="font-size:18.0pt\;">Emergency/Disaster Prevention and Planning </span></span></span></span></div>\n\n<div style="text-align: center\;"><span style="font-weight:bold\;language:en-US\;"><span style="color:#1F497D\;"><span style="font-family:calibri\;"><span style="font-size:11.0pt\;">Presented by Joe Thompson &amp\; Jess Peters</span></span></span></span><br />\n&nbsp\;<br />\n<span style="font-weight:bold\;language:en-US\;"><span style="font-family:calibri\;"><span style="font-size:12.0pt\;">Calling all Business Owners\, Directors or Administrators! </span></span></span><br />\n<span style="language:en-US\;"><span style="font-family:calibri\;"><span style="font-size:12.0pt\;">Joe Thompson of the Huntingdon County Emergency Management Agency and Jess Peters of A-1Pro&nbsp\; Disaster Restoration of Huntingdon will be presenting on the following:</span></span></span><br />\n<span style="direction:ltr\;unicode-bidi:embed\;language:x-none\;"><span style="color:black\;"><span style="font-size:10.0pt\;"><span style="font-family:symbol\;">&middot\;</span></span></span></span>&nbsp\;<span style="language:en-US\;"><span style="font-family:calibri\;"><span style="font-size:12.0pt\;">What local emergencies could likely affect your facility and the impact they could have</span></span></span><br />\n<span style="direction:ltr\;unicode-bidi:embed\;language:x-none\;"><span style="color:black\;"><span style="font-size:10.0pt\;"><span style="font-family:symbol\;">&middot\;</span></span></span></span>&nbsp\;<span style="language:en-US\;"><span style="font-family:calibri\;"><span style="font-size:12.0pt\;">Tips and </span></span></span><span style="text-decoration:underline\;text-underline:single\;font-weight:bold\;language:en-US\;"><span style="color:#085296\;"><span style="font-family:calibri\;"><span style="font-size:12.0pt\;">FREE </span></span></span></span><span style="language:en-US\;"><span style="font-family:calibri\;"><span style="font-size:12.0pt\;">Tools (Easy to implement) that can be used right away to minimize impact to business interruption/continuity</span></span></span><br />\n<span style="direction:ltr\;unicode-bidi:embed\;language:x-none\;"><span style="color:black\;"><span style="font-size:10.0pt\;"><span style="font-family:symbol\;">&middot\;</span></span></span></span>&nbsp\;<span style="language:en-US\;"><span style="font-family:calibri\;"><span style="font-size:12.0pt\;">Any business large or small will benefit from the free helpful resources to be provided in preparation for\, during and after an emergency event. </span></span></span><br />\n<span style="language:en-US\;"><span style="font-family:calibri\;"><span style="font-size:12.0pt\;">*Business owner or decision maker must be present to receive FREE resources and tools to implement. </span></span></span><br />\n&nbsp\;</div>\n
LOCATION:Huntingdon County Career & Technology Center 11893 Technology Drive\, Mill Creek
UID:e.2132.487
SEQUENCE:3
DTSTAMP:20260424T225159Z
URL:https://business.huntingdonchamber.com/events/details/emergency-prevention-lunch-and-learn-487
END:VEVENT

END:VCALENDAR
