BEGIN:VCALENDAR
VERSION:2.0
PRODID:-//ChamberMaster//Event Calendar 2.0//EN
METHOD:PUBLISH
X-PUBLISHED-TTL:P3D
REFRESH-INTERVAL:P3D
CALSCALE:GREGORIAN
BEGIN:VEVENT
DTSTART:20220323T130000Z
DTEND:20220323T150000Z
X-MICROSOFT-CDO-ALLDAYEVENT:FALSE
SUMMARY:Employment Law Webinar
DESCRIPTION:Employment Law\n\nPresented by: Attorney Roberta (Robin) Binder Heath\n\n\n\nAt this seminar we will cover:\n\n1. General Overview of Employment Law\n\n2. COVID and FMLA/ADA\n\n3. Wage and Hour Updates\n\n4. Employer Rights Regarding Social Media\n\n5. Pennsylvania Medical Marijuana Act (Recent case)\n\n6. Pennsylvania Restrictive Covenants (Recent case)\n\n\n\n*You will need to use the link below to register in advance. \n\nhttps://us02web.zoom.us/meeting/register/tZUuf-iqrTgtHNbhWcmQKInQ2jvcAcwY2BDe
X-ALT-DESC;FMTTYPE=text/html:Employment Law<br />\nPresented by: Attorney Roberta (Robin) Binder Heath<br />\n<br />\nAt this seminar we will cover:<br />\n1. General Overview of Employment Law<br />\n2. COVID and FMLA/ADA<br />\n3. Wage and Hour Updates<br />\n4. Employer Rights Regarding Social Media<br />\n5. Pennsylvania Medical Marijuana Act (Recent case)<br />\n6. Pennsylvania Restrictive Covenants (Recent case)<br />\n<br />\n*You will need to use the link below to register in advance.&nbsp\;<br />\nhttps://us02web.zoom.us/meeting/register/tZUuf-iqrTgtHNbhWcmQKInQ2jvcAcwY2BDe
LOCATION:Online
UID:e.2132.560
SEQUENCE:3
DTSTAMP:20260422T213026Z
URL:https://business.huntingdonchamber.com/events/details/employment-law-webinar-560
END:VEVENT

END:VCALENDAR
