BEGIN:VCALENDAR
VERSION:2.0
PRODID:-//ChamberMaster//Event Calendar 2.0//EN
METHOD:PUBLISH
X-PUBLISHED-TTL:P3D
REFRESH-INTERVAL:P3D
CALSCALE:GREGORIAN
BEGIN:VEVENT
DTSTART:20171019T210000Z
DTEND:20171019T230000Z
X-MICROSOFT-CDO-ALLDAYEVENT:FALSE
SUMMARY:F & M Trust Business After Hours
DESCRIPTION:Please join us at F & M Trust for an evening of networking. They will have Sandy Ridge Market catering the event. There will be alcoholic and non-alcoholic beverages served. There will be three $25 gift cards to th new A&W Restaurant given away as door prizes! There is plenty of parking on site. \n\n\n\nWe hope to see you there!
X-ALT-DESC;FMTTYPE=text/html:Please join us at F &amp\; M Trust for an evening of networking. They will have Sandy Ridge Market catering the event. There will be alcoholic and non-alcoholic beverages served. There will be three $25 gift cards to th new A&amp\;W Restaurant given away as door prizes! There is plenty of parking on site.&nbsp\;<br />\n<br />\nWe hope to see you there!&nbsp\;
LOCATION:18810 Sandy Ridge Station\, Orbisonia\, PA
UID:e.2132.442
SEQUENCE:3
DTSTAMP:20260425T204805Z
URL:https://business.huntingdonchamber.com/events/details/f-m-trust-business-after-hours-442
END:VEVENT

END:VCALENDAR
