BEGIN:VCALENDAR
VERSION:2.0
PRODID:-//ChamberMaster//Event Calendar 2.0//EN
METHOD:PUBLISH
X-PUBLISHED-TTL:P3D
REFRESH-INTERVAL:P3D
CALSCALE:GREGORIAN
BEGIN:VEVENT
DTSTART:20190703T220000Z
DTEND:20190704T003000Z
X-MICROSOFT-CDO-ALLDAYEVENT:FALSE
SUMMARY:Family Fest & Car Cruise
DESCRIPTION:Family Fest & Car Cruise\n\n      Wednesday\, July 3\, 2019\n\n \n\nCar Cruise 6:00 p.m.\n\n(Washington Street\, Huntingdon)\n\n \n\nFamily Fest 6:30 8:30 p.m.\n\n(Huntingdon Presbyterian Church\, 508 Mifflin Street & \n\nDesert Garden Day Spa\, 308 5th Street Parking Lots)  \n\nEntertainment:\n\nDerek Heidel 6:30 - 8:30\n\nThe Monkey Man 7:00 - 8:00\n\nThemed lollipops will be available for everyone age 15 and younger. The Chamber will have a bean bag toss with prizes for those 15 and under. \n\n \n\nSponsored by: \n\nHuntingdon Moose Lodge
X-ALT-DESC;FMTTYPE=text/html:<div style="text-align: center\;"><span style="font-weight:bold\;language:en-US\;"><span style="color:red\;"><span style="font-family:bradley hand itc\;"><span style="font-size:36.0pt\;">Family Fest &amp\; Car Cruise</span></span></span></span></div>\n\n<div style="text-align: center\;"><span style="font-weight:bold\;language:en-US\;"><span style="color:#0000C0\;"><span style="font-family:tw cen mt\;"><span style="font-size:20.0pt\;">&nbsp\; &nbsp\; &nbsp\; Wednesday\, July 3\, 2019</span></span></span></span><br />\n&nbsp\;<br />\n<span style="font-weight:bold\;language:en-US\;"><span style="color:#0000C0\;"><span style="font-family:tw cen mt\;"><span style="font-size:20.0pt\;">Car Cruise 6:00 p.m.</span></span></span></span><br />\n<span style="font-weight:bold\;language:en-US\;"><span style="color:#0000C0\;"><span style="font-family:bradley hand itc\;"><span style="font-size:13.0pt\;">(Washington Street\, Huntingdon)</span></span></span></span><br />\n&nbsp\;<br />\n<span style="font-weight:bold\;language:en-US\;"><span style="color:#0000C0\;"><span style="font-family:tw cen mt\;"><span style="font-size:20.0pt\;">Family Fest 6:30&mdash\;8:30 p.m.</span></span></span></span><br />\n<span style="font-weight:bold\;language:en-US\;"><span style="color:#0000C0\;"><span style="font-family:bradley hand itc\;"><span style="font-size:13.0pt\;">(Huntingdon Presbyterian Church\, 508 Mifflin Street &amp\; </span></span></span></span><br />\n<span style="font-weight:bold\;language:en-US\;"><span style="color:#0000C0\;"><span style="font-family:bradley hand itc\;"><span style="font-size:13.0pt\;">Desert Garden Day Spa\, 308 5th Street Parking Lots)&nbsp\; </span></span></span></span><br />\n<span style="font-weight:bold\;language:en-US\;"><span style="color:#0000C0\;"><span style="font-family:bradley hand itc\;"><span style="font-size:13.0pt\;">Entertainment:</span></span></span></span><br />\n<span style="font-weight:bold\;language:en-US\;"><span style="color:#0000C0\;"><span style="font-family:bradley hand itc\;"><span style="font-size:13.0pt\;">Derek Heidel 6:30 - 8:30</span></span></span></span><br />\n<span style="font-weight:bold\;language:en-US\;"><span style="color:#0000C0\;"><span style="font-family:bradley hand itc\;"><span style="font-size:13.0pt\;">The Monkey Man 7:00 - 8:00</span></span></span></span></div>\n\n<p style="text-align: center\;"><span style="font-family:arial\;"><span style="color:#0000FF\;">Themed lollipops will be available for everyone age 15 and younger. The Chamber will have a bean bag toss with prizes for those 15 and under.&nbsp\;</span></span><br />\n&nbsp\;</p>\n\n<h3 style="text-align: center\;"><u><span style="color:#0000FF\;">Sponsored by:&nbsp\;</span></u></h3>\n\n<h3 style="text-align: center\;"><strong><span style="color:#FF0000\;"><span style="font-family:arial\;">Huntingdon Moose Lodge</span></span></strong></h3>\n\n<div style="text-align: center\;"><br />\n&nbsp\;<br />\n&nbsp\;</div>\n
LOCATION:
UID:e.2132.502
SEQUENCE:3
DTSTAMP:20260424T162710Z
URL:https://business.huntingdonchamber.com/events/details/family-fest-car-cruise-502
END:VEVENT

END:VCALENDAR
