BEGIN:VCALENDAR
VERSION:2.0
PRODID:-//ChamberMaster//Event Calendar 2.0//EN
METHOD:PUBLISH
X-PUBLISHED-TTL:P3D
REFRESH-INTERVAL:P3D
CALSCALE:GREGORIAN
BEGIN:VEVENT
DTSTART:20181213T220000Z
DTEND:20181214T000000Z
X-MICROSOFT-CDO-ALLDAYEVENT:FALSE
SUMMARY:Greenland's Lodge Business After Hours
DESCRIPTION:Greenland's Lodge was awarded the Reader's Choice Award in The Daily Herald in   Tyrone. They also won the Beautiful Booth Award at the Centre County Grange Fair. Join us for tours to see what all the buzz is about!\n\n \n\nJoin us as Greenland's Lodge as they cater for us! There will be alcoholic and non-alcoholic beverages provided. They will have music for attendees. They have surprise giveaways planned for door prizes so be sure to bring your business card to drop in the bucket! Parking will be available in their parking lot.
X-ALT-DESC;FMTTYPE=text/html:<span style="language:en-US\;"><span style="font-family:tahoma\;"><span style="font-size:12.0pt\;">Greenland&rsquo\;s Lodge was awarded the Reader&rsquo\;s Choice Award in The Daily Herald in&nbsp\;&nbsp\; Tyrone. They also won the Beautiful Booth Award at the Centre County Grange Fair. Join us for tours to see what all the buzz is about!</span></span></span><br />\n&nbsp\;<br />\n<span style="language:en-US\;"><span style="font-family:tahoma\;"><span style="font-size:12.0pt\;">Join us as Greenland&rsquo\;s Lodge as they cater for us! There will be alcoholic and non-alcoholic beverages provided. They will have music for attendees. They have surprise giveaways planned for door prizes so be sure to bring your business card to drop in the bucket! Parking will be available in their parking lot. </span></span></span><br />\n&nbsp\;
LOCATION:Greenland's Lodge located at 3462 Birmingham Pike\, Alexandria\, PA 16611.
UID:e.2132.477
SEQUENCE:3
DTSTAMP:20260425T013302Z
URL:https://business.huntingdonchamber.com/events/details/greenland-s-lodge-business-after-hours-477
END:VEVENT

END:VCALENDAR
