BEGIN:VCALENDAR
VERSION:2.0
PRODID:-//ChamberMaster//Event Calendar 2.0//EN
METHOD:PUBLISH
X-PUBLISHED-TTL:P3D
REFRESH-INTERVAL:P3D
CALSCALE:GREGORIAN
BEGIN:VEVENT
DTSTART:20210414T210000Z
DTEND:20210414T230000Z
X-MICROSOFT-CDO-ALLDAYEVENT:FALSE
SUMMARY:Huntingdon County Career & Technology Center Business After Hours
DESCRIPTION:Please join us on Wednesday\, April 14 from 5:00 to 7:00 p.m. at the Huntingdon County Career and Technology Center for a Business After Hours to celebrate their new Transportation Center. The Culinary Program will be catering the event and non-alcoholic beverages will be served. There will be various HCCTC items for door prizes. Parking will be available behind the school. Please keep an eye out for the parking assistants. \n\n\n\nMasks are required to be worn during the event. Refreshments will be served outside the building for guests to grab and mingle. The large garage doors will be open so attendees can look through the new center. There will be staff and admin available to answer any questions you may have. We look forward to seeing you!
X-ALT-DESC;FMTTYPE=text/html:<span style="color: rgb(51\, 51\, 51)\; font-family: sans-serif\, Arial\, Verdana\, &quot\;Trebuchet MS&quot\;\; font-size: 13px\; background-color: rgb(255\, 255\, 255)\;">Please join us on Wednesday\, April 14 from 5:00 to 7:00 p.m. at the Huntingdon County Career and Technology Center for a Business After Hours to celebrate their new Transportation Center. The Culinary Program will be catering the event and non-alcoholic beverages will be served. There will be various HCCTC items for door prizes. Parking will be available behind the school. Please keep an eye out for the parking assistants.&nbsp\;</span><br style="color: rgb(51\, 51\, 51)\; font-family: sans-serif\, Arial\, Verdana\, &quot\;Trebuchet MS&quot\;\; font-size: 13px\; background-color: rgb(255\, 255\, 255)\;" />\n<br style="color: rgb(51\, 51\, 51)\; font-family: sans-serif\, Arial\, Verdana\, &quot\;Trebuchet MS&quot\;\; font-size: 13px\; background-color: rgb(255\, 255\, 255)\;" />\n<span style="color: rgb(51\, 51\, 51)\; font-family: sans-serif\, Arial\, Verdana\, &quot\;Trebuchet MS&quot\;\; font-size: 13px\; background-color: rgb(255\, 255\, 255)\;">Masks are required to be worn during the event</span><span style="color: rgb(51\, 51\, 51)\; font-family: sans-serif\, Arial\, Verdana\, &quot\;Trebuchet MS&quot\;\; font-size: 13px\; background-color: rgb(255\, 255\, 255)\;">. Refreshments will be served outside the building for guests to grab and mingle. The large garage doors will be open so attendees can look through the new center. There will be staff and admin available to answer any questions you may have.</span><span style="color: rgb(51\, 51\, 51)\; font-family: sans-serif\, Arial\, Verdana\, &quot\;Trebuchet MS&quot\;\; font-size: 13px\; background-color: rgb(255\, 255\, 255)\;">&nbsp\;We look forward to seeing you!</span>
LOCATION:11893 Technology Drive Mill Creek\, PA 17060
UID:e.2132.537
SEQUENCE:3
DTSTAMP:20260423T123246Z
URL:https://business.huntingdonchamber.com/events/details/huntingdon-county-career-technology-center-business-after-hours-537
END:VEVENT

END:VCALENDAR
