BEGIN:VCALENDAR
VERSION:2.0
PRODID:-//ChamberMaster//Event Calendar 2.0//EN
METHOD:PUBLISH
X-PUBLISHED-TTL:P3D
REFRESH-INTERVAL:P3D
CALSCALE:GREGORIAN
BEGIN:VEVENT
DTSTART:20210414T204500Z
DTEND:20210414T210000Z
X-MICROSOFT-CDO-ALLDAYEVENT:FALSE
SUMMARY:Huntingdon County Career & Technology Center Ribbon Cutting
DESCRIPTION:Please join us as we celebrate the Huntingdon County Career and Technology Center's new Transportation Center. There will be an After Hours event immediately after the cutting.
X-ALT-DESC;FMTTYPE=text/html:Please join us as we celebrate the Huntingdon County Career and Technology Center&#39\;s new Transportation Center. There will be an After Hours event immediately after the cutting.&nbsp\;&nbsp\;&nbsp\;&nbsp\;&nbsp\;
LOCATION:11893 Technology Drive Mill Creek\, PA 17060
UID:e.2132.538
SEQUENCE:3
DTSTAMP:20260423T122620Z
URL:https://business.huntingdonchamber.com/events/details/huntingdon-county-career-technology-center-ribbon-cutting-538
END:VEVENT

END:VCALENDAR
