BEGIN:VCALENDAR
VERSION:2.0
PRODID:-//ChamberMaster//Event Calendar 2.0//EN
METHOD:PUBLISH
X-PUBLISHED-TTL:P3D
REFRESH-INTERVAL:P3D
CALSCALE:GREGORIAN
BEGIN:VEVENT
DTSTART:20200311T210000Z
DTEND:20200311T230000Z
X-MICROSOFT-CDO-ALLDAYEVENT:FALSE
SUMMARY:Huntingdon County Humane Society Business After Hours
DESCRIPTION:Join us as we celebrate the opening of the Katz Adoption Center! The Humane Society also has a new entrance and signage as well as a new brand. Top's Diner will be catering the event. Alcoholic and non-alcoholic beverages will be provided. Due to limited parking\, we ask that you carpool. There will be hand-crafted wreaths\, wine baskets\, a $50 Lowe's Gift Card and more for door prizes so be sure to bring your business card to drop in the bucket. This is a family friendly event.
X-ALT-DESC;FMTTYPE=text/html:Join us as we celebrate the opening of the Katz Adoption Center! The Humane Society also has a new entrance and signage as well as a new brand. Top&#39\;s Diner will be catering the event. Alcoholic and non-alcoholic beverages will be provided. Due to limited parking\, we ask that you carpool. There will be hand-crafted wreaths\, wine baskets\, a $50 Lowe&#39\;s Gift Card and more for door prizes so be sure to bring your business card to drop in the bucket. This is a family friendly event.&nbsp\;&nbsp\;&nbsp\;&nbsp\;&nbsp\;&nbsp\;&nbsp\;&nbsp\;&nbsp\;
LOCATION:The Huntingdon County Humane Society 11371 School House Hollow Road Huntingdon\, PA 16652
UID:e.2132.523
SEQUENCE:3
DTSTAMP:20260424T062158Z
URL:https://business.huntingdonchamber.com/events/details/huntingdon-county-humane-society-business-after-hours-523
END:VEVENT

END:VCALENDAR
