BEGIN:VCALENDAR
VERSION:2.0
PRODID:-//ChamberMaster//Event Calendar 2.0//EN
METHOD:PUBLISH
X-PUBLISHED-TTL:P3D
REFRESH-INTERVAL:P3D
CALSCALE:GREGORIAN
BEGIN:VEVENT
DTSTART:20190509T210000Z
DTEND:20190509T230000Z
X-MICROSOFT-CDO-ALLDAYEVENT:FALSE
SUMMARY:Huntingdon County Visitors Bureau Business After Hours
DESCRIPTION:Join us as we celebrate the 10th anniversary of the Allegrippis Trail System and the 20th anniversary of the Visitor's Center. This is a kid friendly event. Top's Diner will be catering the event. ReKlaimed Vines Winery will be serving alcoholic beverages. Door prizes will include one year premium membership ($195 value) and a gift basket from Raystown Reflections Gift Shop ($50 value). Parking will be available in the two large lots open in the Visitor Center yard.
X-ALT-DESC;FMTTYPE=text/html:<span style="language:en-US\;"><span style="font-family:tahoma\;"><span style="font-size:12.0pt\;">Join us as we celebrate the 10th anniversary of the Allegrippis Trail System and the 20th anniversary of the Visitor&rsquo\;s Center. This is a kid friendly event. Top&rsquo\;s Diner will be catering the event. ReKlaimed Vines Winery will be serving alcoholic beverages. Door prizes will include one year premium membership ($195 value) and a gift basket from Raystown Reflections Gift Shop ($50 value). Parking will be available in the two large lots open in the Visitor Center yard. </span></span></span><br />\n&nbsp\;
LOCATION:Huntingdon County Visitors Bureau located at 6993 Seven Points Road\, Hesston.
UID:e.2132.496
SEQUENCE:3
DTSTAMP:20260424T191132Z
URL:https://business.huntingdonchamber.com/events/details/huntingdon-county-visitors-bureau-business-after-hours-496
END:VEVENT

END:VCALENDAR
