BEGIN:VCALENDAR
VERSION:2.0
PRODID:-//ChamberMaster//Event Calendar 2.0//EN
METHOD:PUBLISH
X-PUBLISHED-TTL:P3D
REFRESH-INTERVAL:P3D
CALSCALE:GREGORIAN
BEGIN:VEVENT
DTSTART:20191022T210000Z
DTEND:20191022T230000Z
X-MICROSOFT-CDO-ALLDAYEVENT:FALSE
SUMMARY:Huntingdon Presbyterian Church Business After Hours
DESCRIPTION:Join us as we celebrate the Church's 230th year of the Huntingdon Presbyterian congregation! They marked this milestone in July of 2019. They will be providing tours of the Tiffany stained glass windows and there will be music on the pipe organ that was a gift from Kate Fisher Blair. The Church members will be catering the event. They will have centerpieces\, stained glass ornaments\, cookbooks and a Messiah CD as door prizes. Parking will be available in the lot beside the church\, enter on Fifth Street.
X-ALT-DESC;FMTTYPE=text/html:Join us as we celebrate the Church&rsquo\;s 230th year of the Huntingdon Presbyterian congregation! They marked this milestone in July of 2019. They will be providing tours of the Tiffany stained glass windows and there will be music on the pipe organ that was a gift from Kate Fisher Blair. The Church members will be catering the event. They will have centerpieces\, stained glass ornaments\, cookbooks and a Messiah CD as door prizes. Parking will be available in the lot beside the church\, enter on Fifth Street.&nbsp\;
LOCATION:508 Mifflin Street Huntingdon\, PA 16652
UID:e.2132.513
SEQUENCE:3
DTSTAMP:20260424T122223Z
URL:https://business.huntingdonchamber.com/events/details/huntingdon-presbyterian-church-business-after-hours-513
END:VEVENT

END:VCALENDAR
