BEGIN:VCALENDAR
VERSION:2.0
PRODID:-//ChamberMaster//Event Calendar 2.0//EN
METHOD:PUBLISH
X-PUBLISHED-TTL:P3D
REFRESH-INTERVAL:P3D
CALSCALE:GREGORIAN
BEGIN:VEVENT
DTSTART:20181113T220000Z
DTEND:20181114T000000Z
X-MICROSOFT-CDO-ALLDAYEVENT:FALSE
SUMMARY:John R. Wald Company\, Inc. Business After Hours
DESCRIPTION:John R. Wald Company\, Inc. has been in business since 1924 and has joined forces with Hills Numberplates Ltd. to become the third largest License Plate producer in the world! Join us for an evening of networking and learning more about John R. Wald. \n\n\n\nYou'll be able to tour their offices and the manufacturing plant. While you're there\, make your own license plate!\n\n\n\nSubway will be catering this event. Alcoholic and non-alcoholic beverages will be served. Parking will be available in their parking lot.
X-ALT-DESC;FMTTYPE=text/html:John R. Wald Company\, Inc. has been in business since 1924 and has joined forces with Hills Numberplates Ltd. to become the third largest License Plate producer in the world! Join us for an evening of networking and learning more about John R. Wald.&nbsp\;<br />\n<br />\nYou&#39\;ll be able to tour their offices and the manufacturing plant. While you&#39\;re there\, make your own license plate!<br />\n<br />\nSubway will be catering this event. Alcoholic and non-alcoholic beverages will be served. Parking will be available in their parking lot.&nbsp\;
LOCATION:10576 Fairgrounds Road Huntingdon\, PA 16652
UID:e.2132.475
SEQUENCE:3
DTSTAMP:20260425T030109Z
URL:https://business.huntingdonchamber.com/events/details/john-r-wald-company-inc-business-after-hours-475
END:VEVENT

END:VCALENDAR
