BEGIN:VCALENDAR
VERSION:2.0
PRODID:-//ChamberMaster//Event Calendar 2.0//EN
METHOD:PUBLISH
X-PUBLISHED-TTL:P3D
REFRESH-INTERVAL:P3D
CALSCALE:GREGORIAN
BEGIN:VEVENT
DTSTART:20171114T220000Z
DTEND:20171115T000000Z
X-MICROSOFT-CDO-ALLDAYEVENT:FALSE
SUMMARY:Juniata College Business After Hours
DESCRIPTION:Visit Juniata College's newly renovated Alumni Hall and take a tour of the new Kepple Hall. You'll be able to see the new art studio spaces! We will begin with an open in the new lobby of the Brumbaugh Academic Center then have hors d'oeuvres in Alumni Hall with a welcome and remarks from President Troha. To conclude there will be an invitiation to walk Kepple Hall for dessert and coffee and a tour of the new integrated media and studio arts building. \n\n\n\nSodexo will be catering the event. Alcoholic and non-alcoholic beverages will be served. They will have free tickets to Juniata presents program and a gift card to Headwater Spirit Shop as door prizes. Parking will be available on the street and in the back and library parking lots.
X-ALT-DESC;FMTTYPE=text/html:Visit Juniata College&#39\;s newly renovated Alumni Hall and take a tour of the new Kepple Hall. You&#39\;ll be able to see the new art studio spaces! We will begin with an open in the new lobby of the Brumbaugh Academic Center then have hors d&#39\;oeuvres in Alumni Hall with a welcome and remarks from President Troha. To conclude there will be an invitiation to walk Kepple Hall for dessert and coffee and a tour of the new integrated media and studio arts building.&nbsp\;<br />\n<br />\nSodexo will be catering the event. Alcoholic and non-alcoholic beverages will be served. They will have free tickets to Juniata&nbsp\;presents program and a gift card to Headwater Spirit Shop as door prizes. Parking will be available on the street and in the back and library parking lots.&nbsp\;
LOCATION:Brumbaugh Academic Center at Juniata College
UID:e.2132.443
SEQUENCE:3
DTSTAMP:20260425T191126Z
URL:https://business.huntingdonchamber.com/events/details/juniata-college-business-after-hours-443
END:VEVENT

END:VCALENDAR
