BEGIN:VCALENDAR
VERSION:2.0
PRODID:-//ChamberMaster//Event Calendar 2.0//EN
METHOD:PUBLISH
X-PUBLISHED-TTL:P3D
REFRESH-INTERVAL:P3D
CALSCALE:GREGORIAN
BEGIN:VEVENT
DTSTART:20190117T220000Z
DTEND:20190118T000000Z
X-MICROSOFT-CDO-ALLDAYEVENT:FALSE
SUMMARY:Juniata College Business After Hours
DESCRIPTION:Join us as we learn about Juniata College's new requirement for their students. The requirement is local community engagement. You'll have the opportunity to learn what this will mean for you as Chamber members and members of the community. \n\n \n\nJuniata College will have Parkhurst Dining catering the event. There will be alcoholic and non-alcoholic beverages provided. They have two gift baskets to give away as door prizes. Parking will be available in the lots on either side of Ellis Hall.
X-ALT-DESC;FMTTYPE=text/html:<span style="language:en-US\;"><span style="font-family:tahoma\;"><span style="font-size:12.0pt\;">Join us as we learn about Juniata College&rsquo\;s new requirement for their students. The requirement is local community engagement. You&rsquo\;ll have the opportunity to learn what this will mean for you as Chamber members and members of the community. </span></span></span><br />\n&nbsp\;<br />\n<span style="language:en-US\;"><span style="font-family:tahoma\;"><span style="font-size:12.0pt\;">Juniata College will have Parkhurst Dining catering the event. There will be alcoholic and non-alcoholic beverages provided. They have two gift baskets to give away as door prizes. Parking will be available in the lots on either side of Ellis Hall. </span></span></span><br />\n&nbsp\;
LOCATION:Juniata College\, Ellis Ball Room 1700 Moore Street Huntingdon\, PA 16652
UID:e.2132.478
SEQUENCE:3
DTSTAMP:20260425T000347Z
URL:https://business.huntingdonchamber.com/events/details/juniata-college-business-after-hours-478
END:VEVENT

END:VCALENDAR
