BEGIN:VCALENDAR
VERSION:2.0
PRODID:-//ChamberMaster//Event Calendar 2.0//EN
METHOD:PUBLISH
X-PUBLISHED-TTL:P3D
REFRESH-INTERVAL:P3D
CALSCALE:GREGORIAN
BEGIN:VEVENT
DTSTART:20180215T133000Z
DTEND:20180215T170000Z
X-MICROSOFT-CDO-ALLDAYEVENT:FALSE
SUMMARY:Labor Law & Unemployment Compensation Breakfast & Seminar
DESCRIPTION:Labor Law & Unemployment Compensation Breakfast & Seminar\n\nThursday\, February 15\, 2018 from 8:30 a.m. to noon \n\nComfort Inn\, Huntingdon \n\n(100 South 4th Street\, Huntingdon)\n\n \n\nState Labor Law Compliance \n\nPresented by \n\nRandy Liddle\, Administrative Officer\, Bureau of Labor Law Compliance\,\n\nPennsylvania Department of Labor & Industry\n\n \n\nRandy has been employed by the Pennsylvania Department of Labor & Industry as a Labor Law Investigator with the Bureau of Labor Law Compliance for (35) years. In July of 2016\, he was reassigned and currently\n\nserves as an Administrative Officer assigned to the Bureaus Harrisburg Central Office.\n\n\n\nFederal Law Compliance \n\nPresented by \n\nJane E'del\, Community Outreach Specialist for the\n\nUnited States Department of Labor\, Wage and Hour Division.  \n\n \n\n  Jane was  a senior Wage and Hour Investigator. She earned a Masters Degree in\n\nHuman Resource Management from St. Francis of Loretto and taught in their graduate program.\n\n \n\nUnemployment Compensation\n\nPresented by \n\nNancy Smithbauer\, Workforce Development Representative for \n\nUnemployment Compensation\, Pennsylvania Department of Labor & Industry. \n\n \n\nNancy has been employed by the Pennsylvania Department of Labor & Industry for 15 years\,\n\nhaving been a Claims Examiner for nearly 10 of those years. Nancy helps employers and claimants\n\nunderstand the Unemployment Compensation Law and assists with navigating the\n\n process to ensure the proper application of the program.
X-ALT-DESC;FMTTYPE=text/html:<div style="text-align: center\;"><span style="font-weight:bold\;language:en-US\;"><span style="color:blue\;"><span style="font-family:bodoni mt\;"><span style="font-size:20.0pt\;">Labor Law &amp\; Unemployment Compensation Breakfast &amp\; Seminar</span></span></span></span><br />\n<span style="language:en-US\;"><span style="font-family:bodoni mt\;"><span style="font-size:12.0pt\;">Thursday\, February 15\, 2018 from 8:30 a.m. to noon </span></span></span><br />\n<span style="language:en-US\;"><span style="font-family:bodoni mt\;"><span style="font-size:12.0pt\;">Comfort Inn\, Huntingdon </span></span></span><br />\n<span style="language:en-US\;"><span style="font-family:bodoni mt\;"><span style="font-size:12.0pt\;">(100 South 4th Street\, Huntingdon)</span></span></span><br />\n&nbsp\;<br />\n<span style="font-weight:bold\;language:en-US\;"><span style="color:blue\;"><span style="font-family:bodoni mt\;"><span style="font-size:16.0pt\;">State Labor Law Compliance </span></span></span></span><br />\n<span style="font-style:italic\;language:en-US\;"><span style="font-family:bodoni mt\;"><span style="font-size:13.0pt\;">Presented by </span></span></span><br />\n<span style="text-decoration-line:underline\;font-weight:bold\;"><span style="font-family:bodoni mt\;"><span style="font-size:13pt\;">Randy Liddle\, Administrative Officer\, Bureau of Labor Law Compliance\,<br />\nPennsylvania Department of Labor &amp\; Industry</span></span></span><br />\n&nbsp\;<br />\nRandy has been employed by the Pennsylvania Department of Labor &amp\; Industry as a Labor Law Investigator with the Bureau of Labor Law Compliance for (35) years. In July of 2016\, he was reassigned and currently<br />\nserves as an Administrative Officer assigned to the Bureaus Harrisburg Central Office.<br />\n<br />\n<span style="font-weight:bold\;language:en-US\;"><span style="color:blue\;"><span style="font-family:bodoni mt\;"><span style="font-size:16.0pt\;">Federal Law Compliance </span></span></span></span><br />\n<span style="font-style:italic\;language:en-US\;"><span style="font-family:bodoni mt\;"><span style="font-size:13.0pt\;">Presented by </span></span></span><br />\n<span style="text-decoration-line:underline\;font-weight:bold\;"><span style="font-family:bodoni mt\;"><span style="font-size:13pt\;">Jane E&rsquo\;del\, Community Outreach Specialist for the<br />\nUnited States Department of Labor\, Wage and Hour Division.&nbsp\; </span></span></span><br />\n&nbsp\;<br />\n&nbsp\; Jane was &nbsp\;a senior Wage and Hour Investigator. She earned a Masters Degree in<br />\nHuman Resource Management from St. Francis of Loretto and taught in their graduate program.<br />\n&nbsp\;<br />\n<span style="font-weight:bold\;language:en-US\;"><span style="color:blue\;"><span style="font-family:bodoni mt\;"><span style="font-size:16.0pt\;">Unemployment Compensation</span></span></span></span><br />\n<span style="font-style:italic\;language:en-US\;"><span style="font-family:bodoni mt\;"><span style="font-size:13.0pt\;">Presented by </span></span></span><br />\n<span style="text-decoration-line:underline\;font-weight:bold\;"><span style="font-family:bodoni mt\;"><span style="font-size:13pt\;">Nancy Smithbauer\, Workforce Development Representative for </span></span></span><br />\n<span style="text-decoration-line:underline\;font-weight:bold\;"><span style="font-family:bodoni mt\;"><span style="font-size:13pt\;">Unemployment Compensation\, Pennsylvania Department of Labor &amp\; Industry. </span></span></span><br />\n&nbsp\;<br />\nNancy has been employed by the Pennsylvania Department of Labor &amp\; Industry for 15 years\,<br />\nhaving been a Claims Examiner for nearly 10 of those years. Nancy helps employers and claimants<br />\nunderstand the Unemployment Compensation Law and assists with navigating the<br />\n&nbsp\;process to ensure the proper application of the program.<br />\n&nbsp\;</div>\n
LOCATION:
UID:e.2132.451
SEQUENCE:3
DTSTAMP:20260425T162121Z
URL:https://business.huntingdonchamber.com/events/details/labor-law-unemployment-compensation-breakfast-seminar-451
END:VEVENT

END:VCALENDAR
