BEGIN:VCALENDAR
VERSION:2.0
PRODID:-//ChamberMaster//Event Calendar 2.0//EN
METHOD:PUBLISH
X-PUBLISHED-TTL:P3D
REFRESH-INTERVAL:P3D
CALSCALE:GREGORIAN
BEGIN:VEVENT
DTSTART:20191114T220000Z
DTEND:20191115T000000Z
X-MICROSOFT-CDO-ALLDAYEVENT:FALSE
SUMMARY:Lake Raystown Resort\, Lodge & Conference Center Business After Hours
DESCRIPTION:Join us as we begin the evening upstairs for hor d'oeuvres and beverages. Both alcoholic and non-alcoholic beverages will be served. We will then move downstairs in the resort to enjoy music by Matt Otis and Robin Chambers. \n\n\n\nThe door prize will be a $100 gift card. You don't want to miss the chance to win it! Make sure you bring your business card to drop in the bucket. There will be plenty of parking available in the parking lot for the resort.
X-ALT-DESC;FMTTYPE=text/html:Join us as we begin the evening upstairs for hor d&#39\;oeuvres and beverages. Both alcoholic and non-alcoholic beverages will be served. We will then move downstairs in the resort to enjoy music by Matt Otis and Robin Chambers.&nbsp\;<br />\n<br />\nThe door prize will be a $100 gift card. You don&#39\;t want to miss the chance to win it! Make sure you bring your business card to drop in the bucket. There will be plenty of parking available in the parking lot for the resort.&nbsp\;
LOCATION:3101 Chipmunk Crossing Entriken\, PA 16638
UID:e.2132.515
SEQUENCE:3
DTSTAMP:20260424T110034Z
URL:https://business.huntingdonchamber.com/events/details/lake-raystown-resort-lodge-conference-center-business-after-hours-515
END:VEVENT

END:VCALENDAR
