BEGIN:VCALENDAR
VERSION:2.0
PRODID:-//ChamberMaster//Event Calendar 2.0//EN
METHOD:PUBLISH
X-PUBLISHED-TTL:P3D
REFRESH-INTERVAL:P3D
CALSCALE:GREGORIAN
BEGIN:VEVENT
DTSTART:20170606T220000Z
DTEND:20170607T010000Z
X-MICROSOFT-CDO-ALLDAYEVENT:FALSE
SUMMARY:Leadership Huntingdon County Graduation
DESCRIPTION:We invite you to join us as we celebrate the graduates of the 2017 Leadership Huntingdon County Class.
X-ALT-DESC;FMTTYPE=text/html:We invite you to join us as we celebrate the graduates of the 2017 Leadership Huntingdon County Class.&nbsp\;
LOCATION:Stone Church of the Brethren 1623 Moore Street Huntingdon\, PA 16652
UID:e.2132.431
SEQUENCE:3
DTSTAMP:20260426T022415Z
URL:https://business.huntingdonchamber.com/events/details/leadership-huntingdon-county-graduation-431
END:VEVENT

END:VCALENDAR
