BEGIN:VCALENDAR
VERSION:2.0
PRODID:-//ChamberMaster//Event Calendar 2.0//EN
METHOD:PUBLISH
X-PUBLISHED-TTL:P3D
REFRESH-INTERVAL:P3D
CALSCALE:GREGORIAN
BEGIN:VEVENT
DTSTART:20190606T220000Z
DTEND:20190607T000000Z
X-MICROSOFT-CDO-ALLDAYEVENT:FALSE
SUMMARY:Leadership Huntingdon County Graduation
DESCRIPTION:Please join us as we celebrate the individuals graduating from Leadership Huntingdon County.
X-ALT-DESC;FMTTYPE=text/html:Please join us as we celebrate the individuals graduating from Leadership Huntingdon County.&nbsp\;
LOCATION:Stone Church of the Brethren 1623 Moore Street Huntingdon\, PA 16652
UID:e.2132.495
SEQUENCE:3
DTSTAMP:20260424T173510Z
URL:https://business.huntingdonchamber.com/events/details/leadership-huntingdon-county-graduation-495
END:VEVENT

END:VCALENDAR
