BEGIN:VCALENDAR
VERSION:2.0
PRODID:-//ChamberMaster//Event Calendar 2.0//EN
METHOD:PUBLISH
X-PUBLISHED-TTL:P3D
REFRESH-INTERVAL:P3D
CALSCALE:GREGORIAN
BEGIN:VEVENT
DTSTART:20210624T210000Z
DTEND:20210624T230000Z
X-MICROSOFT-CDO-ALLDAYEVENT:FALSE
SUMMARY:Lincoln Caverns\, Inc. Business After Hours
DESCRIPTION:Join us to celebrate the 90th Anniversary of Lincoln Caverns! You'll have the opportunity to tour Lincoln Caverns Discovery Days and Black Light style! Tours will be approximately 35 minutes. Comfortable walking shoes are required and a light jacket is recommended. Due to limited tour sizes\, you MUST pre-reserve your tour time. Select your 1st and 2nd choice of tour time. Times are 5:20\, 5:40\, 6:00 and 6:20. The Raystown Rocks Gift Shop will be open. A history presentation of Lincoln Caverns' 90 years will be playing in the Visitors Center. Tours of the Visitor Center and educational facility will be at your leisure. Refreshments will be served in the pavilion. Standing Stone Coffee Company is catering. Non-alcoholic and alcoholic beverages will be provided. Door prizes include two pairs of All Access Passes ($111.96/pair)\, two $25 Raystown Rocks gift certificates and two Raystown Rocks gift baskets ($50+ value).\n\n\n\nIf registering online\, please put your 1st and 2nd choice of tour time in the note section. \n\n\n\n**Masks are required during cavern tours. Mask are not required in the Visitors Center if you're vaccinated. Masks not required outside or in the pavilion.
X-ALT-DESC;FMTTYPE=text/html:Join us to celebrate the 90th Anniversary of Lincoln Caverns! You&rsquo\;ll have the opportunity to tour Lincoln Caverns Discovery Days and Black Light style! Tours will be approximately 35 minutes. Comfortable walking shoes are required and a light jacket is recommended. Due to limited tour sizes\, you MUST pre-reserve your tour time. Select your 1st and 2nd choice of tour time. Times are 5:20\, 5:40\, 6:00 and 6:20. The Raystown Rocks Gift Shop will be open. A history presentation of Lincoln Caverns&#39\; 90 years will be playing in the Visitors Center. Tours of the Visitor Center and educational facility will be at your leisure. Refreshments will be served in the pavilion. Standing Stone Coffee Company is catering. Non-alcoholic and alcoholic beverages will be provided. Door prizes include two pairs of All Access Passes ($111.96/pair)\, two $25 Raystown Rocks gift certificates and two Raystown Rocks gift baskets ($50+ value).<br />\n<br />\nIf registering online\, please put your 1st and 2nd choice of tour time in the note section.&nbsp\;<br />\n<br />\n<em>**Masks are required during cavern tours. Mask are not required in the Visitors Center if you&rsquo\;re vaccinated. Masks not required outside or in the pavilion.&nbsp\;</em>
LOCATION:Lincoln Caverns\, Inc. and Whisper Rocks 7703 William Penn Highway Huntingdon\, PA 16652
UID:e.2132.533
SEQUENCE:3
DTSTAMP:20260423T110852Z
URL:https://business.huntingdonchamber.com/events/details/lincoln-caverns-inc-business-after-hours-533
END:VEVENT

END:VCALENDAR
