BEGIN:VCALENDAR
VERSION:2.0
PRODID:-//ChamberMaster//Event Calendar 2.0//EN
METHOD:PUBLISH
X-PUBLISHED-TTL:P3D
REFRESH-INTERVAL:P3D
CALSCALE:GREGORIAN
BEGIN:VEVENT
DTSTART:20210316T143000Z
DTEND:20210316T153000Z
X-MICROSOFT-CDO-ALLDAYEVENT:FALSE
SUMMARY:Make Better Business Decisions with Google Analytics Webinar
DESCRIPTION:Make Better Business Decisions with Analytics \n\nJoin us as we discuss and analyze trends about how customers engage with your business online\, then turn these insights into well-informed\, actionable decisions. We will discuss using Google Analytics to help you collect and interpret real-time information\, review some of the reports and terms used so you can learn more about your target audience and how to achieve your business goals.  \nIn this session we'll introduce talk about:\n\n\n	Identifying business goals (and how you plan to use your online presence to achieve them)\n	Incorporating data into your plan\n	A focus on introducing Google Analytics and how to use this tool to make better business decisions\n\n\nRegistration Link: https://attendee.gotowebinar.com/register/8084675327128256013
X-ALT-DESC;FMTTYPE=text/html:<div class="gmail_default" style="color: rgb(68\, 68\, 68)\; font-family: arial\, helvetica\, sans-serif\; font-size: small\; background-color: rgb(255\, 255\, 255)\;"><b>Make Better Business Decisions with Analytics</b>&nbsp\;</div>\n\n<div class="gmail_default" style="color: rgb(68\, 68\, 68)\; font-family: arial\, helvetica\, sans-serif\; font-size: small\; background-color: rgb(255\, 255\, 255)\;"><span style="font-family: Arial\, Helvetica\, sans-serif\; color: rgb(34\, 34\, 34)\;">Join us as we discuss and analyze trends about how customers engage with your business online\, then turn these insights into well-informed\, actionable decisions. We will discuss using Google Analytics to help you collect and interpret real-time information\, review some of the reports and terms used so you can learn more about your target audience and how to achieve your business goals.&nbsp\;&nbsp\;</span></div>\n<b style="color: rgb(68\, 68\, 68)\; font-family: arial\, helvetica\, sans-serif\; font-size: small\; background-color: rgb(255\, 255\, 255)\;">In this session we&rsquo\;ll introduce talk about:</b>\n\n<ul style="color: rgb(68\, 68\, 68)\; font-family: arial\, helvetica\, sans-serif\; font-size: small\; background-color: rgb(255\, 255\, 255)\;">\n	<li style="margin-left: 15px\;">Identifying business goals (and how you plan to use your online presence to achieve them)</li>\n	<li style="margin-left: 15px\;">Incorporating data into your plan</li>\n	<li style="margin-left: 15px\;">A focus on introducing Google Analytics and how to use this tool to make better business decisions</li>\n</ul>\n\n<div style="margin-left: 15px\;"><b style="color: rgb(68\, 68\, 68)\; font-family: arial\, helvetica\, sans-serif\; font-size: small\; background-color: rgb(255\, 255\, 255)\;">Registration Link:</b><span style="color: rgb(68\, 68\, 68)\; font-family: arial\, helvetica\, sans-serif\; font-size: small\; background-color: rgb(255\, 255\, 255)\;">&nbsp\;</span><a data-saferedirecturl="https://www.google.com/url?q=https://attendee.gotowebinar.com/register/8084675327128256013&amp\;source=gmail&amp\;ust=1613585571177000&amp\;usg=AFQjCNEeqQo1XmzSGT3uU6s94PxdsZVWGg" href="https://attendee.gotowebinar.com/register/8084675327128256013" style="color: rgb(17\, 85\, 204)\; font-family: arial\, helvetica\, sans-serif\; font-size: small\; background-color: rgb(255\, 255\, 255)\;" target="_blank">https://attendee.<wbr />gotowebinar.com/register/<wbr />8084675327128256013</a></div>\n
LOCATION:
UID:e.2132.536
SEQUENCE:3
DTSTAMP:20260423T140604Z
URL:https://business.huntingdonchamber.com/events/details/make-better-business-decisions-with-google-analytics-webinar-536
END:VEVENT

END:VCALENDAR
