BEGIN:VCALENDAR
VERSION:2.0
PRODID:-//ChamberMaster//Event Calendar 2.0//EN
METHOD:PUBLISH
X-PUBLISHED-TTL:P3D
REFRESH-INTERVAL:P3D
CALSCALE:GREGORIAN
BEGIN:VEVENT
DTSTART:20200226T220000Z
DTEND:20200227T000000Z
X-MICROSOFT-CDO-ALLDAYEVENT:FALSE
SUMMARY:RE/MAX Lake & Country Business After Hours
DESCRIPTION:Join us as we celebrate the opening of a brand new business! Come meet the realtors of RE/MAX Lake & Country! There will be a Chili Cook-off with the agents and realtors. Alcoholic and non-alcoholic beverages will be served.\n\n \n\nThere will be plenty of parking on Washington Street\, 8th Street and in the municipal lot behind The Medicine Shoppe. Don't forget to bring a business card to drop in the bucket for a chance to win one of the two $50 Home Goods gift cards.
X-ALT-DESC;FMTTYPE=text/html:<span style="font-size:14px\;"><span style="font-family:arial\;">Join us as we celebrate the opening of a brand new business! Come meet the realtors of RE/MAX Lake &amp\; Country! There will be a Chili Cook-off with the agents and realtors. Alcoholic and non-alcoholic beverages will be served.<br />\n&nbsp\;<br />\nThere will be plenty of parking on Washington Street\, 8th Street and in the municipal lot behind The Medicine Shoppe. Don&rsquo\;t forget to bring a business card to drop in the bucket for a chance to win one of the two $50 Home Goods gift cards. </span></span><br />\n&nbsp\;
LOCATION:302 8th Street Huntingdon\, PA 16652
UID:e.2132.521
SEQUENCE:3
DTSTAMP:20260424T073158Z
URL:https://business.huntingdonchamber.com/events/details/re-max-lake-country-business-after-hours-521
END:VEVENT

END:VCALENDAR
