BEGIN:VCALENDAR
VERSION:2.0
PRODID:-//ChamberMaster//Event Calendar 2.0//EN
METHOD:PUBLISH
X-PUBLISHED-TTL:P3D
REFRESH-INTERVAL:P3D
CALSCALE:GREGORIAN
BEGIN:VEVENT
DTSTART:20210527T210000Z
DTEND:20210527T230000Z
X-MICROSOFT-CDO-ALLDAYEVENT:FALSE
SUMMARY:Rotary/Foundation/Gage Mansion Business After Hours
DESCRIPTION:Join us for an opportunity to learn about three organizations which make an impact in Huntingdon\, while enjoying food\, beverages and live music!\n\n\n\nHuntingdon Rotary Club will showcase the many ways the club supports our community and invite attendees to become Rotarians to join with them in their motto "Service Above Self." A special discount will be offered to those who attend the After Hours and later become a member of Huntingdon Rotary. \n\n\n\nHuntingdon County Foundation Board Members will be on hand to show how they are currently serving local charities and discuss the many ways that they can assist individuals with their future charitable giving. \n\n\n\nThe Gage Mansion Bed & Breakfast staff will proudly display the beautiful mansion and the garden for attendees\, and relate how the Gage can supply excellent lodging and event services for meetings\, weddings\, etc. \n\n\n\nThere will be "slider size" BBQ pulled chicken and pork\, cheese and vegetable trays\, snacks/chips\, cupcakes and cookies. The Gage Innkeeper will be preparing the sandwiches\, cupcakes and cookies. Alcoholic and non-alcoholic beverages will be served. Nick Miller will be providing live music from 5:30 to 7:00 p.m. There will be three baskets of wine and a basket of offers from Rotarian businesses for the door prize drawing. Tables and chairs will be placed about the yard along with EZ up tents for shade.     \n\n\n\n**Masks are REQUIRED!
X-ALT-DESC;FMTTYPE=text/html:Join us for an opportunity to learn about three organizations which make an impact in Huntingdon\, while enjoying food\, beverages and live music!<br />\n<br />\nHuntingdon Rotary Club will showcase the many ways the club supports our community and invite attendees to become Rotarians to join with them in their motto &quot\;Service Above Self.&quot\; A special discount will be offered to those who attend the After Hours and later become a member of Huntingdon Rotary.&nbsp\;<br />\n<br />\nHuntingdon County Foundation Board Members will be on hand to show how they are currently serving local charities and discuss the many ways that they can assist individuals with their future charitable giving.&nbsp\;<br />\n<br />\nThe Gage Mansion Bed &amp\; Breakfast staff will proudly display the beautiful mansion and the garden for attendees\, and relate how the Gage can supply excellent lodging and event services for meetings\, weddings\, etc.&nbsp\;<br />\n<br />\nThere will be &quot\;slider size&quot\; BBQ pulled chicken and pork\, cheese and vegetable trays\, snacks/chips\, cupcakes and cookies. The Gage Innkeeper will be preparing the sandwiches\, cupcakes and cookies. Alcoholic and non-alcoholic beverages will be served. Nick Miller will be providing live music from 5:30 to 7:00 p.m. There will be three baskets of wine and a basket of offers from Rotarian businesses for the door prize drawing. Tables and chairs will be placed about the yard along with EZ up tents for shade.&nbsp\;&nbsp\;&nbsp\;&nbsp\;&nbsp\;<br />\n<br />\n**Masks are REQUIRED!&nbsp\;
LOCATION:Gage Mansion Bed & Breakfast 317 Penn Street Huntingdon\, PA 16652
UID:e.2132.540
SEQUENCE:3
DTSTAMP:20260423T111017Z
URL:https://business.huntingdonchamber.com/events/details/rotary-foundation-gage-mansion-business-after-hours-540
END:VEVENT

END:VCALENDAR
