BEGIN:VCALENDAR
VERSION:2.0
PRODID:-//ChamberMaster//Event Calendar 2.0//EN
METHOD:PUBLISH
X-PUBLISHED-TTL:P3D
REFRESH-INTERVAL:P3D
CALSCALE:GREGORIAN
BEGIN:VEVENT
DTSTART:20190523T160000Z
DTEND:20190523T170000Z
X-MICROSOFT-CDO-ALLDAYEVENT:FALSE
SUMMARY:SAP&DC Business Lending\, International Trade & Government Procurement L&L
DESCRIPTION:Trudy Mitchell is the Director of Business Lending Services. She will be speaking about the loan programs that are administered by SAP&DC. She will cover what kinds of businesses are eligible borrowers\, the types of assets that can be financed\, the rate and tern of loans\, typical collateral structures\, how they partner with private sector lenders\, the application/approval process and give examples of projects they have funded. Joyce Hoffman is the International Trade Specialist. She will be speaking about how they assist companies with exporting their products and/or services overseas. Gloria Brooks is the Government Procurement Specialist. She will be speaking about how they help companies navigate registrations/certifications with government contracting.
X-ALT-DESC;FMTTYPE=text/html:Trudy Mitchell is the Director of Business Lending Services. She will be speaking about the loan programs that are administered by SAP&amp\;DC. She will cover what kinds of businesses are eligible borrowers\, the types of assets that can be financed\, the rate and tern of loans\, typical collateral structures\, how they partner with private sector lenders\, the application/approval process and give examples of projects they have funded. Joyce Hoffman is the International Trade Specialist. She will be speaking about how they assist companies with exporting their products and/or services overseas. Gloria Brooks is the Government Procurement Specialist. She will be speaking about how they help companies navigate registrations/certifications with government contracting.&nbsp\;
LOCATION:Huntingdon County Career & Technology Center 11893 Technology Drive Mill Creek
UID:e.2132.500
SEQUENCE:3
DTSTAMP:20260424T192231Z
URL:https://business.huntingdonchamber.com/events/details/sap-dc-business-lending-international-trade-government-procurement-l-l-500
END:VEVENT

END:VCALENDAR
