BEGIN:VCALENDAR
VERSION:2.0
PRODID:-//ChamberMaster//Event Calendar 2.0//EN
METHOD:PUBLISH
X-PUBLISHED-TTL:P3D
REFRESH-INTERVAL:P3D
CALSCALE:GREGORIAN
BEGIN:VEVENT
DTSTART:20190116T170000Z
DTEND:20190116T180000Z
X-MICROSOFT-CDO-ALLDAYEVENT:FALSE
SUMMARY:SAP&DC Community Development Lunch & Learn
DESCRIPTION:The Community and Economic Development Program Manager at Southern Alleghenies Planning and Development Commission\, Lindsay Pyle\, will be joining us to discuss different types of grants they offer from water infrastructure\, to roads\, and outdoor recreation. Lindsay will talk about what makes a strong grant application and how they can assist with finding grants and helping to write grants. She will also be covering our regional comprehensive plan called Alleghenies Ahead\, and discuss how it relates to the different types of grants. \n\nLindsay has been with the Commission for four years. The Planning and Community Development Division at SAP&CD works closely with the 6 county  planners\, boroughs\, municipalities\, non-profits\, and many elected officials to help see community development projects from start to finish. They help applicants apply for many types of funding sources from local to federal funding. The division also focuses a lot of time to managing transportation projects in our four rural counties.
X-ALT-DESC;FMTTYPE=text/html:<span style="language:en-US\;"><span style="font-family:calibri\;"><span style="font-size:11.0pt\;">The Community and Economic Development Program Manager at Southern Alleghenies Planning and Development Commission\, Lindsay Pyle\, will be joining us to discuss different types of grants they offer from water infrastructure\, to roads\, and outdoor recreation. Lindsay will talk about what makes a strong grant application and how they can assist with finding grants and helping to write grants. She will also be covering our regional comprehensive plan called Alleghenies Ahead\, and discuss how it relates to the different types of grants. </span></span></span><br />\n<span style="language:en-US\;"><span style="font-family:calibri\;"><span style="font-size:11.0pt\;">Lindsay has been with the Commission for four years. The Planning and Community Development Division at SAP&amp\;CD works closely with the 6 county&nbsp\; planners\, boroughs\, municipalities\, non-profits\, and many elected officials to help see community development projects from start to finish. They help applicants apply for many types of funding sources from local to federal funding. The division also focuses a lot of time to managing transportation projects in our four rural counties. </span></span></span><br />\n&nbsp\;
LOCATION:Huntingdon County Career & Technology Center 11893 Technology Drive Mill Creek\, PA 17060
UID:e.2132.479
SEQUENCE:3
DTSTAMP:20260425T012655Z
URL:https://business.huntingdonchamber.com/events/details/sap-dc-community-development-lunch-learn-479
END:VEVENT

END:VCALENDAR
