BEGIN:VCALENDAR
VERSION:2.0
PRODID:-//ChamberMaster//Event Calendar 2.0//EN
METHOD:PUBLISH
X-PUBLISHED-TTL:P3D
REFRESH-INTERVAL:P3D
CALSCALE:GREGORIAN
BEGIN:VEVENT
DTSTART:20181206T133000Z
DTEND:20181206T160000Z
X-MICROSOFT-CDO-ALLDAYEVENT:FALSE
SUMMARY:SAP&DC Marketing & Communications Seminar
DESCRIPTION:SAPDC Marketing & Communications Presented by Benjamin J. Mazur\, Marketing and Communications Specialist Benjamin J. Mazur is the Marketing and Communications Specialist at Southern Alleghenies Planning and Development Commission (SAP&DC). As manager of the Marketing and Communications Assistance Program\, Mr. Mazur helps small and medium sized businesses in the six-county region by creating comprehensive marketing plans and strategies for these businesses. With the support of their generous sponsors\, SAP&DC provides marketing assessment and marketing plan development services FREE of charge. Before arriving at SAP&DC\, Mr. Mazur worked at numerous advertising agencies\, media production companies\, and internet startups as creative director\, founder\, manager and more. During these tenures\, Mr. Mazur has worked with hundreds of clients and earned dozens of awards and citations for his work including Best in Show and "Young and Upcoming Businessperson" in a regional business publication\, "Business Hall of Fame: Technology" from a local chamber and as a "Top 100 Producer in America" in a leading trade publication. Mr. Mazur has also taught two semesters of corporate communications\, an advanced upper-level course at Penn State\, as an adjunct professor.
X-ALT-DESC;FMTTYPE=text/html:SAPDC Marketing &amp\; Communications Presented by Benjamin J. Mazur\, Marketing and Communications Specialist Benjamin J. Mazur is the Marketing and Communications Specialist at Southern Alleghenies Planning and Development Commission (SAP&amp\;DC). As manager of the Marketing and Communications Assistance Program\, Mr. Mazur helps small and medium sized businesses in the six-county region by creating comprehensive marketing plans and strategies for these businesses. With the support of their generous sponsors\, SAP&amp\;DC provides marketing assessment and marketing plan development services FREE of charge. Before arriving at SAP&amp\;DC\, Mr. Mazur worked at numerous advertising agencies\, media production companies\, and internet startups as creative director\, founder\, manager and more. During these tenures\, Mr. Mazur has worked with hundreds of clients and earned dozens of awards and citations for his work including Best in Show and &ldquo\;Young and Upcoming Businessperson&rdquo\; in a regional business publication\, &ldquo\;Business Hall of Fame: Technology&rdquo\; from a local chamber and as a &ldquo\;Top 100 Producer in America&rdquo\; in a leading trade publication. Mr. Mazur has also taught two semesters of corporate communications\, an advanced upper-level course at Penn State\, as an adjunct professor.&nbsp\;
LOCATION:Comfort Inn\, Huntingdon (100 South 4th Street\, Huntingdon)
UID:e.2132.476
SEQUENCE:3
DTSTAMP:20260425T013016Z
URL:https://business.huntingdonchamber.com/events/details/sap-dc-marketing-communications-seminar-476
END:VEVENT

END:VCALENDAR
