BEGIN:VCALENDAR
VERSION:2.0
PRODID:-//ChamberMaster//Event Calendar 2.0//EN
METHOD:PUBLISH
X-PUBLISHED-TTL:P3D
REFRESH-INTERVAL:P3D
CALSCALE:GREGORIAN
BEGIN:VEVENT
DTSTART:20180104T220000Z
DTEND:20180105T000000Z
X-MICROSOFT-CDO-ALLDAYEVENT:FALSE
SUMMARY:Simone Family Chiropractic Business After Hours
DESCRIPTION:Come celebrate the New Year with your friends at Simone Family Chiropractic and CHIRO-thin Weight Loss Center. Food will be catered. There will be wine and beer along with non-alcoholic beverages. Health related product raffles will be drawn throughout the evening. There will be a complimentary DETOX event starting at 5:30 sharp! In the presentation you will learn:\n\n  How to properly remove toxins from your body\n\n  How to safely rid your body of parasites\n\n  How to detoxify the liver and kidneys\n\n  How to increase energy levels\n\n  How to eliminate digestive disorders\n\n  How to increase your fat burning potential\n\n  How to lower blood pressure\, cholesterol and sugar levels\n\n  And much more.
X-ALT-DESC;FMTTYPE=text/html:<span style="language:en-US\;"><span style="font-family:arial\;"><span style="font-size:12.0pt\;">Come celebrate the New Year with your friends at Simone Family Chiropractic and CHIRO-thin Weight Loss Center. Food will be catered. There will be wine and beer along with non-alcoholic beverages. Health related product raffles will be drawn throughout the evening. There will be a complimentary DETOX event starting at 5:30 sharp! In the presentation you will learn:</span></span></span><br />\n<span style="direction:ltr\;unicode-bidi:embed\;"><span style="font-size:10pt\;"><span style="font-family:symbol\;">&middot\;</span></span></span>&nbsp\;<span style="language:en-US\;"><span style="font-family:arial\;"><span style="font-size:12.0pt\;">How to properly remove toxins from your body</span></span></span><br />\n<span style="direction:ltr\;unicode-bidi:embed\;"><span style="font-size:10pt\;"><span style="font-family:symbol\;">&middot\;</span></span></span>&nbsp\;<span style="language:en-US\;"><span style="font-family:arial\;"><span style="font-size:12.0pt\;">How to safely rid your body of parasites</span></span></span><br />\n<span style="direction:ltr\;unicode-bidi:embed\;"><span style="font-size:10pt\;"><span style="font-family:symbol\;">&middot\;</span></span></span>&nbsp\;<span style="language:en-US\;"><span style="font-family:arial\;"><span style="font-size:12.0pt\;">How to detoxify the liver and kidneys</span></span></span><br />\n<span style="direction:ltr\;unicode-bidi:embed\;"><span style="font-size:10pt\;"><span style="font-family:symbol\;">&middot\;</span></span></span>&nbsp\;<span style="language:en-US\;"><span style="font-family:arial\;"><span style="font-size:12.0pt\;">How to increase energy levels</span></span></span><br />\n<span style="direction:ltr\;unicode-bidi:embed\;"><span style="font-size:10pt\;"><span style="font-family:symbol\;">&middot\;</span></span></span>&nbsp\;<span style="language:en-US\;"><span style="font-family:arial\;"><span style="font-size:12.0pt\;">How to eliminate digestive disorders</span></span></span><br />\n<span style="direction:ltr\;unicode-bidi:embed\;"><span style="font-size:10pt\;"><span style="font-family:symbol\;">&middot\;</span></span></span>&nbsp\;<span style="language:en-US\;"><span style="font-family:arial\;"><span style="font-size:12.0pt\;">How to increase your fat burning potential</span></span></span><br />\n<span style="direction:ltr\;unicode-bidi:embed\;"><span style="font-size:10pt\;"><span style="font-family:symbol\;">&middot\;</span></span></span>&nbsp\;<span style="language:en-US\;"><span style="font-family:arial\;"><span style="font-size:12.0pt\;">How to lower blood pressure\, cholesterol and sugar levels</span></span></span><br />\n<span style="direction:ltr\;unicode-bidi:embed\;"><span style="font-size:10pt\;"><span style="font-family:symbol\;">&middot\;</span></span></span>&nbsp\;<span style="language:en-US\;"><span style="font-family:arial\;"><span style="font-size:12.0pt\;">And much more. </span></span></span><br />\n&nbsp\;
LOCATION:613 Washington Street\, Huntingdon
UID:e.2132.447
SEQUENCE:3
DTSTAMP:20260425T161625Z
URL:https://business.huntingdonchamber.com/events/details/simone-family-chiropractic-business-after-hours-447
END:VEVENT

END:VCALENDAR
