BEGIN:VCALENDAR
VERSION:2.0
PRODID:-//ChamberMaster//Event Calendar 2.0//EN
METHOD:PUBLISH
X-PUBLISHED-TTL:P3D
REFRESH-INTERVAL:P3D
CALSCALE:GREGORIAN
BEGIN:VEVENT
DTSTART:20180404T220000Z
DTEND:20180405T010000Z
X-MICROSOFT-CDO-ALLDAYEVENT:FALSE
SUMMARY:Small Games of Chance Rules Seminar
DESCRIPTION:Wednesday\, April 4\, 2018\n\n6:00 - 9:00 p.m.\n\nSmithfield Fire Hall\n\nFree Admission (RSVP Required)\n \n\nSince the intricacies of the law can be complex and confusing and we want to make sure nonprofit groups understand the right way to use gambling to raise funds for charitable causes\, we've invited Christopher J. Burns\, PA State Police Bureau of Liquor Control Enforcement\, Liquor Control Enforcement Officer\, to speak to local non-profits. Officer Burns has been assigned to the Altoona District Office for 14 years.\n\n \n\nThe presentation will discuss legal vs illegal gambling\, various types of permitted Small Games of Chance games\, Use of Proceeds for holders of Club or Club Liquor Licenses\, Bingo Laws and Special Occasion Permits.
X-ALT-DESC;FMTTYPE=text/html:<div>&nbsp\; &nbsp\; &nbsp\; &nbsp\; &nbsp\; &nbsp\; &nbsp\; &nbsp\; &nbsp\; &nbsp\; &nbsp\; &nbsp\; &nbsp\; &nbsp\; &nbsp\; &nbsp\; &nbsp\; &nbsp\; &nbsp\;&nbsp\;<br />\n&nbsp\; &nbsp\; &nbsp\; &nbsp\; &nbsp\; &nbsp\; &nbsp\;&nbsp\;&nbsp\; &nbsp\; &nbsp\; &nbsp\; &nbsp\; &nbsp\;<span style="font-weight:bold\;language:en-US\;"><span style="color:#063D71\;"><span style="font-family:calibri\;"><span style="font-size:18.0pt\;">Wednesday\, April 4\, 2018</span></span></span></span></div>\n\n<div style="text-align: center\;"><span style="font-weight:bold\;language:en-US\;"><span style="color:#063D71\;"><span style="font-family:calibri\;"><span style="font-size:18.0pt\;">6:00 - 9:00 p.m.</span></span></span></span><br />\n<span style="font-weight:bold\;language:en-US\;"><span style="color:#063D71\;"><span style="font-family:calibri\;"><span style="font-size:18.0pt\;">Smithfield Fire Hall</span></span></span></span><br />\n<span style="font-weight:bold\;language:en-US\;"><span style="color:#00B050\;"><span style="font-family:calibri\;"><span style="font-size:18.0pt\;">Free Admission (RSVP Required)</span></span></span></span></div>\n&nbsp\;<br />\n<span style="language:en-US\;"><span style="font-family:bodoni\;"><span style="font-size:13.0pt\;">Since the intricacies of the law can be complex and confusing and we want to make sure nonprofit groups understand the right way to use gambling to raise funds for charitable causes\, we&rsquo\;ve invited Christopher&nbsp\;J. Burns\, PA State Police Bureau of Liquor Control Enforcement\, Liquor Control Enforcement Officer\, to speak to local non-profits. Officer Burns has been assigned to the Altoona District Office for 14 years.</span></span></span><br />\n&nbsp\;<br />\n<span style="language:en-US\;"><span style="font-family:bodoni\;"><span style="font-size:13.0pt\;">The presentation will discuss legal vs illegal gambling\, various types of permitted Small Games of Chance games\, Use of Proceeds for holders of Club or Club Liquor Licenses\, Bingo Laws and Special Occasion Permits.</span></span></span><br />\n&nbsp\;
LOCATION:
UID:e.2132.455
SEQUENCE:3
DTSTAMP:20260425T122025Z
URL:https://business.huntingdonchamber.com/events/details/small-games-of-chance-rules-seminar-455
END:VEVENT

END:VCALENDAR
